BEGIN:VCALENDAR
VERSION:2.0
PRODID:-//wp-events-plugin.com//7.2.3.1//EN
TZID:Australia/Sydney
X-WR-TIMEZONE:Australia/Sydney
BEGIN:VEVENT
UID:2242@unswoc.org
DTSTART;VALUE=DATE:20180407
DTEND;VALUE=DATE:20180408
DTSTAMP:20180404T033456Z
URL:https://unswoc.org/wordpress/events/beginners-clambering-al-abi/
SUMMARY:Beginners Clambering with Al and Abi
DESCRIPTION:Location TBH\, but probably in the Blue Mountains. Should be a 
 sick day!\n\nYou will need:\n\n 	Climbing shoes (can be borrowed from the 
 club)\n 	Climbing helmet (can be borrowed)\n 	Harness (can be borrowed)\n 
 	Belay device and locking carabiner (can be borrowed)\n 	Food and water fo
 r the day. At least 1.5L of water\n 	Walking shoes\n 	Warm clothes in case
  you get cold\n 	Sunscreen\n 	Backpack for all of the above\n\nPeople with
  cars will be preferenced so please message Abi/Al to let them know that y
 ou will be driving a motor vehicle.
CATEGORIES:Outdoor Climbing
END:VEVENT
END:VCALENDAR