BEGIN:VCALENDAR
VERSION:2.0
PRODID:-//wp-events-plugin.com//7.2.3.1//EN
TZID:Australia/Sydney
X-WR-TIMEZONE:Australia/Sydney
BEGIN:VEVENT
UID:2363@unswoc.org
DTSTART;VALUE=DATE:20190310
DTEND;VALUE=DATE:20190311
DTSTAMP:20190305T001350Z
URL:https://unswoc.org/wordpress/events/beginners-canyoning-trip-sunday/
SUMMARY:Beginners Canyoning Trip - Sunday
DESCRIPTION:Jeffrey and I (Tad) are leading a beginner canyoning trip in th
 e Blue Mountains this Sunday [exact canyon to be confirmed soon].\n\n 	You
  MUST know how to swim!\n 	Preferably you have abseiled before\, and you w
 ill not panic when it comes time to trust the rope and go over the edge\n 
 	Preference will be given if you are able to drive (and own a car)\n\nGear
 /equipment that you will need:\n\n 	Canyoning gear: a harness\, helmet\, w
 etsuit\, ATC belay device\, carabiner (all these items can be borrowed fro
 m the club but please comment if you have your own).\n 	A backpack that wi
 ll get wet with a DRY BAG inside that will not get wet (to keep your cloth
 es dry while you wear the wetsuit\, the club has some dry bags but it's be
 tter if you bring your own: $10-$20 from Decathlon or Anaconda) [please br
 ing ziplock bags for your electronics in case the dry bag is punctured].\n
  	A headtorch\, comfortable enclosed shoes with good grip [I recommend $8 
 aqua shoes from BigW or Dunlop Volleys]\, lunch\, 2L of water\, swimmers\,
  WOOLLEN socks (no cotton!!)\, and a keen sense of adventure!\n\nPlease co
 mment what gear you will need to borrow from the club and I will be able t
 o collect it for the whole group myself. If you need a wetsuit\, please te
 ll me what size (Xsmall\, small\, medium\, large\, x-large). Also please c
 omment what your favourite chocolate bar is.\n\nSee you there\,\n\nTad
CATEGORIES:Canyoning
END:VEVENT
END:VCALENDAR