BEGIN:VCALENDAR
VERSION:2.0
PRODID:-//wp-events-plugin.com//7.2.3.1//EN
TZID:Australia/Sydney
X-WR-TIMEZONE:Australia/Sydney
BEGIN:VEVENT
UID:639@unswoc.org
DTSTART:20141101T203000Z
DTEND:20141102T070000Z
DTSTAMP:20141023T232254Z
URL:https://unswoc.org/wordpress/events/beginners-canyoning-lower-williams
 -river/
SUMMARY:Boree Log - Sunday Beginners Canyoning: Lower Williams River
DESCRIPTION:Heya!\n\nOn the Sunday of BOREE LOG\, Brendan and I will be run
 ning another canyoning trip through the Lower Williams River. It's a perfe
 ct canyon for beginners with a fun series of swims\, slides and jumps.\n\
 nThe canyon is 2-2.5 hours away by car\, so on top of having all your gear
  sorted you will also need the willingness to get up after the party on S
 aturday night. Don't worry\, it'll be well worth it!\n\nWe'll aim to leave
  by 8am\, take about 6 hours to go through the canyon and then head back t
 o Sydney together. We won't be returning back to the campsite\, so make s
 ure you pack all your stuff!\n\nWhat you will need:\n\n	Wetsuit and swimme
 rs: You can borrow a wetsuit from a friend\, maybe someone who is canyonin
 g on Saturday but not Sunday? borrow from the club\, although there will b
 e a limited supply\, or check out second hand stores and gumtree\n	Enclose
 d shoes with grip that you don't mind getting wet e.g. volleys or old j
 oggers. Places like target and bigw sell volleys for around $20 or $10 if
  you have kid sized feet :) Get yourself some woollen socks as well if you
  don't have any as anything made from cotton will cause you to freeze\n	Ba
 ckpack and dry bag: Bring a backpack that you don't mind getting wet\, and
  one that can also hold your wetsuit\, 1.5L of water\, lunch/snacks and so
 me dry clothes. A dry bag will keep things like your lunch and clothes dr
 y throughout the canyon. Some people might have a large enough dry bag to
  fit your stuff\, but make sure you ask first\, or alternatively lots of h
 eavy duty wrapped inside each other will do the trick\n	Helmet &amp\; tor
 ch: A climbing or bike helmet will do and a preferably a head torch for th
 e off chance that we finish after dark\n	Water\, snacks and lunch\n	Dry cl
 othes: To change into after the canyon. You can also keep thermals or a wa
 rm jacket in your dry bag to change into for the hike out\n\nCheers :)\n\n
 &nbsp\;\n\n&nbsp\;
CATEGORIES:Boree Log,Canyoning
LOCATION:Lower Williams River\, Barrington Tops National Park\, Salisbury\,
  Australia
GEO:-32.214920;151.559509
X-APPLE-STRUCTURED-LOCATION;VALUE=URI;X-ADDRESS=Barrington Tops National Pa
 rk\, Salisbury\, Australia;X-APPLE-RADIUS=100;X-TITLE=Lower Williams River
 :geo:-32.214920,151.559509
END:VEVENT
END:VCALENDAR