BEGIN:VCALENDAR
VERSION:2.0
PRODID:-//wp-events-plugin.com//7.2.3.1//EN
TZID:Australia/Sydney
X-WR-TIMEZONE:Australia/Sydney
BEGIN:VEVENT
UID:3623@unswoc.org
DTSTART;TZID=Australia/Sydney:20250810T100000
DTEND;TZID=Australia/Sydney:20250810T160000
DTSTAMP:20250809T053021Z
URL:https://unswoc.org/wordpress/events/beginners-canyoning-jugglers-canyo
 n/
SUMMARY:Beginners Canyoning - Juggler's Canyon [postponed]
DESCRIPTION:Hey everyone! This Sunday Cornellius and I (Leo) will be runnin
 g a canyoning trip down Juggler’s Canyon! (track notes: here\, rope wiki
 : here) Current plan's to meet at -33.664359\, 150.324937 (parking spot al
 ong old Point Pilcher road) around 10am before heading off.\nThis is a fun
 \, fairly dry and beginner friendly canyon\, so this trip’s open to anyo
 ne regardless of skill level as long as you're keen and reasonably fit! It
 's a very pretty canyon\, with some fun overhanging abseils so you're pret
 ty much guaranteed a good day out. While you won't have to swim\, there's 
 still a chance you'll get wet\, so bear that in mind - to avoid being sad 
 and soggy\, I'd recommend bringing some thermals\, something warm to wear 
 on top and a rain jacket\, and bringing a dry change of clothes to keep in
  the car for the way home is always nice to come back to if you do fall in
  too\, just please avoid wearing cotton into the canyon- it gets pretty co
 ld when wet. \n\n\n\n\n\n\n\nFor the signups\, chuck your canyoning\, out
 doors and abseiling experience into the comments\, as well as if you have 
 a car with spots\, and what food you're gonna feed us to bribe your way on
 to this trip with (we're corrupt). If you haven't abseiled before\, no pro
 blem\, me and Cornellius are happy to show you the ropes at the ledge this
  Thursday or in the canyon.\n\nGear:\n\n 	Harness*\n 	Figure 8 descender &
 amp\; carabiner*\n 	Safety sling &amp\; carabiner*\n 	At least 2L water\n 
 	Food: lunch\, snacks.\n 	Emergency blanket (can be bought from the gear 
 cupboard for $5)\n 	Helmet*\n 	Enclosed Shoes (Volleys or old sneakers ar
 e good options\, but really you just want something with good grip that ca
 n get wet/slightly trashed)\n 	Woollen socks\n 	Backpack (at least 25L\, 
 we may give you some group gear to carry)\n 	Headtorch\n 	Thermals\n 	Rain
  jacket\n
ATTACH;FMTTYPE=image/jpeg:https://unswoc.org/wordpress/wp-content/uploads/
 2025/07/jugglers.jpg
CATEGORIES:Canyoning
LOCATION:https://maps.app.goo.gl/hM2y8WFABJ9dscYt7
END:VEVENT
BEGIN:VTIMEZONE
TZID:Australia/Sydney
X-LIC-LOCATION:Australia/Sydney
BEGIN:STANDARD
DTSTART:20250406T020000
TZOFFSETFROM:+1100
TZOFFSETTO:+1000
TZNAME:AEST
END:STANDARD
END:VTIMEZONE
END:VCALENDAR