BEGIN:VCALENDAR
VERSION:2.0
PRODID:-//wp-events-plugin.com//7.2.3.1//EN
TZID:Australia/Sydney
X-WR-TIMEZONE:Australia/Sydney
BEGIN:VEVENT
UID:1979@unswoc.org
DTSTART:20160319T204500Z
DTEND:20160320T083000Z
DTSTAMP:20160315T025240Z
URL:https://unswoc.org/wordpress/events/beginners-canyon-twister-rocky-cre
 ek/
SUMMARY:Beginner's Canyon: Twister and Rocky Creek
DESCRIPTION:Lets go explore some cool naturally made water slides\, awesome
  jumps and refreshing swims! This is a beginner trip incorporating lots of
  unique blue mountains scenery\, hidden wildlife and a whole two canyons i
 n one day\, how could that get any better?! There will be a bit of walking
 \, for the fit this walking will be nice and cruisey and for the not so fi
 t don't worry\, just keep talking to your new friends and the hard work wi
 ll fly by! This trip will be run by Kylie and myself so you are in good ha
 nds :)\n\nThere will be space for a maximum of 15 people\, and we will nee
 d two people with cars to transport people!\n\nWhat you need:\n\n	Thermals
 \n	Drybag\n	Backpack (preferably with a waist strap)\n	Headtorch\n	dry clo
 thes\n	water\n	food\n	enclosed shoes that can get wet (no sandals/thongs a
 s pointy submerged sticks will not be your friends!)\n	wool socks\n	rainco
 at\n	Sunscreen\n	first aid kit (if you have one)\n	Wetsuit and Helmet (can
  be picked up at boree log\, but if you have your own please bring it!)\n\
 nYou MUST be registered as attending Boree Log to attend this trip! Also 
 make sure to check you have actually been accepted onto the trip (you shou
 ld get a confirmation email).\n\nIf you still have questions after reading
  the page feel free to message me on facebook (Alexandra Repetto).
CATEGORIES:Canyoning
END:VEVENT
END:VCALENDAR