BEGIN:VCALENDAR
VERSION:2.0
PRODID:-//wp-events-plugin.com//7.2.3.1//EN
TZID:Australia/Sydney
X-WR-TIMEZONE:Australia/Sydney
BEGIN:VEVENT
UID:2244@unswoc.org
DTSTART;VALUE=DATE:20180414
DTEND;VALUE=DATE:20180415
DTSTAMP:20180412T024519Z
URL:https://unswoc.org/wordpress/events/beginners-canyon-saturday-empress/
SUMMARY:Beginners Canyon Saturday - Empress
DESCRIPTION:Ben and Nikki are leading a canyon on Saturday (http://ozultima
 te.com/canyoning/track_notes/empress.htm)\n\nIf we have time\, there is al
 so the possibility of completing grand canyon on the same day (http://ozul
 timate.com/canyoning/track_notes/grand.htm).\n\nLeaving from uni at 6:30-7
 am\n\nIt is a beginners canyon\, however abseiling experience is highly re
 commended\n\nWhat to bring:\n\n 	Wetsuit\n 	Helmet\n 	Harness\, safety sli
 ng\, ATC\, prussik cord\, 2X locking carabiners\n 	Dry bag (with a dry spa
 re set of thermals in them) in a backpack\n 	Lunch\, water\n 	(preferably)
  a head torch\n\nPlease message myself\, Ben Wilkinson and Nikki Sentinell
 a the following:\n\n 	your previous experience\n 	whether you have all the
  gear\n 	whether you have a car\n\nSorry for the late post\, I couldn't le
 ad the trip anymore so it took a day or two to find a replacement\, which 
 Ben kindly agreed to be :)
CATEGORIES:Canyoning
END:VEVENT
END:VCALENDAR