BEGIN:VCALENDAR
VERSION:2.0
PRODID:-//wp-events-plugin.com//7.2.3.1//EN
TZID:Australia/Sydney
X-WR-TIMEZONE:Australia/Sydney
BEGIN:VEVENT
UID:623@unswoc.org
DTSTART:20141005T230000Z
DTEND:20141006T020000Z
DTSTAMP:20141002T141451Z
URL:https://unswoc.org/wordpress/events/beginners-canyon-blue-mountains/
SUMMARY:Beginners Canyon - Blue Mountains
DESCRIPTION:Hey\,\n\nMark and I are going to run a beginners canyon on the 
 6th of October\, which is the Monday of the Labour Day long weekend. We're
  thinking either Empress Canyon or if we can get an extra driver\, a Mt W
 ilson canyon\, probably Water Dragon. These are wet canyons and both conta
 in abseils so abseiling experience is recommended but not necessary\, we c
 an teach/look after you\, along with a reasonable level of fitness.\n\n&nb
 sp\;\n\nGear:\n\n	Helmet\n	Harness\n	Descender\n	2 x carabiner\n	Safety Sl
 ing\n	(All of which can be borrowed from the club)\n	Wetsuit\, the club ha
 s a few of these\n	Wollen or synthetic socks\n	Thermals\n	Canyoning approp
 riate shoes (e.g. volleys)\n	Backpack\n	Drybag - one between three will do
 \n	Half a day's food and water\n	Petrol Money\n	A spare change of clothes\
 n\nPlease mention if you can drive\, otherwise we'll take the train up to 
 Wentworth Falls Station and walk from there.\n\nIf you have any questions 
 ask Mark Goodwin\, or myself\n\n- Dion Russell\n\n&nbsp\;\n\n&nbsp\;\n\n&n
 bsp\;
CATEGORIES:Canyoning
LOCATION:Wentworth Falls Station\, Station St\, Wentworth Falls\, Australia
GEO:-33.708591;150.375870
X-APPLE-STRUCTURED-LOCATION;VALUE=URI;X-ADDRESS=Station St\, Wentworth Fall
 s\, Australia;X-APPLE-RADIUS=100;X-TITLE=Wentworth Falls Station:geo:-33.7
 08591,150.375870
END:VEVENT
END:VCALENDAR