BEGIN:VCALENDAR
VERSION:2.0
PRODID:-//wp-events-plugin.com//7.2.3.1//EN
TZID:Australia/Sydney
X-WR-TIMEZONE:Australia/Sydney
BEGIN:VEVENT
UID:2211@unswoc.org
DTSTART;VALUE=DATE:20180303
DTEND;VALUE=DATE:20180304
DTSTAMP:20180223T043750Z
URL:https://unswoc.org/wordpress/events/beginners-canyon-2/
SUMMARY:Beginners Canyon
DESCRIPTION:http://ozultimate.com/canyoning/track_notes/yileen.htm\n\nFIRST
  CANYON!!!\nManon and Ewa will be running a canyon next Saturday the 3rd. 
 The plan is to do a fantastic canyon called Yileen -\n( unless it rains th
 en we will do a different canyon in the blue mountains)\nIt is a beginner 
 friendly canyon so  if you just signed up to the club jump on it!\nIf you
  can drive thats amazing plz let me know ( in the comments section) as we 
 will need another driver.\nWe will leave early Saturday morning and come b
 ack the same evening.\n\nOnce you have signed up and ive approved your pla
 ce plz shoot me a message on facebook so i can talk finer details :)\n\nWh
 at you need:\n\n	harness**\n	helmet**\n	atc + biner**\n	wetsuits**\n	backp
 ack that can get wet\n	headtorch\n	old shorts to protect wetsuit\n	drybag\
 n	runners that may get trashed\n	petrol money\n	at least 1.5L of water\n	L
 unch\n	Snacks\n	Adventure spirit and heaps of good mood!**\n	**you can get
  this from the club on gear night or message me on facebook if unable to! 
 - gear night might be next tuesday at the welcome bbq or next Wednesday - 
 will let you know :)\n	and some spare clothes to wear home in the car in c
 ase others get wet - don't forget a jumper!\n
CATEGORIES:Canyoning
END:VEVENT
END:VCALENDAR