BEGIN:VCALENDAR
VERSION:2.0
PRODID:-//wp-events-plugin.com//7.2.3.1//EN
TZID:Australia/Sydney
X-WR-TIMEZONE:Australia/Sydney
BEGIN:VEVENT
UID:2014@unswoc.org
DTSTART:20160508T013000Z
DTEND:20160508T070000Z
DTSTAMP:20160505T003300Z
URL:https://unswoc.org/wordpress/events/beginners-bouldering/
SUMMARY:Brendan Brings Beginners Blue's Bouldering (Featuring Terrific Till
 y)
DESCRIPTION:Hey everyone!\n\nTilly and I are running a bouldering trip this
  Sunday to the beautiful Blues Point.\nCrag Link: https://www.thecrag.com/
 climbing/australia/north-shore/area/213994206\nNice fun easy ones but also
  some V3s\, 4s\, 5s and 6s! Come solve some problems.\n\nI know it's mothe
 rs day so take em out for breakfast or feel free to leave a bit earlier in
  the arvo.\n\nYou will need:\n\n	food\n	water\n	climbing shoes (can be bor
 rowed from cupboard)\n	chalk\n	sun protection\n	bouldering mat if you have
  it\n\nWe will hopefully car pool\, so let me know if you have a car\, or 
 you can easily bus/train to North Sydney.\n\nCheers!\n\nBrendan
END:VEVENT
END:VCALENDAR