BEGIN:VCALENDAR
VERSION:2.0
PRODID:-//wp-events-plugin.com//7.2.3.1//EN
TZID:Australia/Sydney
X-WR-TIMEZONE:Australia/Sydney
BEGIN:VEVENT
UID:532@unswoc.org
DTSTART;VALUE=DATE:20140821
DTEND;VALUE=DATE:20140825
DTSTAMP:20140812T053713Z
URL:https://unswoc.org/wordpress/events/beginners-backcountry-skiing/
SUMMARY:Beginners Backcountry Skiing!!!
DESCRIPTION:Hey Team!!\n\nNext Week\, I will be running a beginners backcou
 ntry ski trip! yay!!\n\n&nbsp\;\n\nDetails:\n\n-The tip is aimed at skiers
  and boarders who have hit the resorts and are familiar with how to handle
  themselves in the snow\, however have no idea how to 'earn their turns'\,
  that 'tele girls/guys go down'\, that 'freeing the heel frees the mind' o
 r that there is basically a world outside the resort. (i.e. you want to le
 arn how to BC)\n\nThus\, to be eligible to attend you will need to have sk
 ied/boarded before.\n\n-An experienced (mildly) AT (alpine touring) skier\
 , Splitboarder (crazy folk who take bansaws to perfectly good snowboards)
  and Telemarker (this person goes down) will be hitting the slopes\, and w
 ill be willing to put aside some time to show you how its done. (No ego st
 roking intended....)\n\n&nbsp\;\n\nLogistics:\n\n-A group of us will be he
 ading down thursday night\, to ski friday-saturday-sunday. Our transport i
 s currently organised\, so for people eager to attend\, we have a week to 
 match bodies with cars! Woot!! (This part might actually be tricky....)\n\
 n-Gear. getting sorted for the BC can be tricky\, with your clothing being
  some of the most important gear  you can bring. As such\, we need to ma
 ke sure you know what you are doing/we can outfit you BEFORE heading down.
  Can't stress this one enough. Some of the sh*t thats happened in the past
 ....\n\n-Ditto that on camping gear\n\n-Ski/board gear: the easiest part o
 n the list. Rythm snowsports\, Cooma. Stops will be organised on the way d
 own to sort/hire gear.\n\nAs much pre-planning will be involved\, we need 
 to meet prospective beginners before heading down. First and easiest way t
 o do this will be THIS thursday night at the Ledge (tomorrow) or afterward
 s (9pm-ish) at the pub (The Royal)\n\nFailing that\, i will be free this a
 fternoon (today) PM me on fb and we will chat it out.\n\nFailing that\, yo
 u can come into the Coopers Hotel Newtown (where i work) friday/saturday n
 ight and we can chat it out.\n\nFailing that\, I will be free sunday\n\nFa
 iling that\, you pretty much need to organise your own trip :P\n\n&nbsp\;
CATEGORIES:Backcountry
END:VEVENT
END:VCALENDAR