BEGIN:VCALENDAR
VERSION:2.0
PRODID:-//wp-events-plugin.com//7.2.3.1//EN
TZID:Australia/Sydney
X-WR-TIMEZONE:Australia/Sydney
BEGIN:VEVENT
UID:3030@unswoc.org
DTSTART;TZID=Australia/Sydney:20220626T110000
DTEND;TZID=Australia/Sydney:20220626T143000
DTSTAMP:20220622T041618Z
URL:https://unswoc.org/wordpress/events/beginners-abseiling-workshop-quarr
 y-reserve-maroubra/
SUMMARY:[Beginners] Abseiling Workshop @ Quarry Reserve Maroubra
DESCRIPTION:Elliot and I will be running a beginner's abseiling workshop at
  Quarry Reserve in Maroubra this Sunday.\n\nThis workshop will teach you t
 he necessary skills required for canyoning (and access to some fantastic c
 limbs! See pics below)\n\nWe will be covering the following:\n\n 	Abseilin
 g using an ATC\n 	Abseiling using a Figure 8\n 	Double strand Abseiling\n 
 	“ABCDE” Safety Check\n 	Bottom / Fireman’s belay your mates\n\n&nbs
 p\;\nEmpress Falls\n&nbsp\;\nWhale of a Time\n&nbsp\;\n\nGear Required:\n\
 n 	Harness*\n 	Helmet*\n 	Safety sling*\n 	3 x Locking Carabiner*\n 	ATC*\
 n 	Figure 8*\n 	Comfortable close-toed shoes\n\n* Can be borrowed from Gea
 r Sheds\n\nAs this trip is a bit of a late notice\, and the gear shed isn'
 t really open today - please tell me what gear you already have and what g
 ear you will need (if you cannot make it to gear shed today)\n\nPat's FB p
 ost about gearshed today:\n\nPlease also let me know where you're heading 
 from\, and how many spots you have if you have a car so that we can organi
 se carpooling
CATEGORIES:Abseiling
END:VEVENT
BEGIN:VTIMEZONE
TZID:Australia/Sydney
X-LIC-LOCATION:Australia/Sydney
BEGIN:STANDARD
DTSTART:20220403T020000
TZOFFSETFROM:+1100
TZOFFSETTO:+1000
TZNAME:AEST
END:STANDARD
END:VTIMEZONE
END:VCALENDAR