BEGIN:VCALENDAR
VERSION:2.0
PRODID:-//wp-events-plugin.com//7.2.3.1//EN
TZID:Australia/Sydney
X-WR-TIMEZONE:Australia/Sydney
BEGIN:VEVENT
UID:325@unswoc.org
DTSTART:20140202T223000Z
DTEND:20140202T223000Z
DTSTAMP:20140131T155618Z
URL:https://unswoc.org/wordpress/events/beginnerintermediate-climbing-trip
 -dam-cliffs/
SUMMARY:Beginner/intermediate climbing trip to Bluebell
DESCRIPTION:We're going to Bluebell crag\, near Heathcoate. Call me if you 
 want to come: 0422 521 598.
END:VEVENT
END:VCALENDAR