BEGIN:VCALENDAR
VERSION:2.0
PRODID:-//wp-events-plugin.com//7.2.3.1//EN
TZID:Australia/Sydney
X-WR-TIMEZONE:Australia/Sydney
BEGIN:VEVENT
UID:2153@unswoc.org
DTSTART:20170512T200000Z
DTEND:20170513T080000Z
DTSTAMP:20170509T125058Z
URL:https://unswoc.org/wordpress/events/beginnerintermediate-climbing-barr
 enjoey/
SUMMARY:BEGINNER/INTERMEDIATE CLIMBING - BARRENJOEY
DESCRIPTION:Sup Team!\n\nThis Saturday\, a bunch of leaders will be heading
  to Barrenjoey. Barrenjoey has sport and trad at a variety of grades and 
 is great for both beginners and intermediates (particularly new trad leade
 rs). Palm Beach is also close by\, so there's access to bouldering and the
  beach there\, so this is set to be a great day out!\n\nBecause quite a fe
 w leaders have expressed interest\, I will be making this a larger trip an
 d we will be able to take more beginners. That being said\, we want to avo
 id being a nuisance as a large group and minimise impact. This means that 
 everyone should be respectful at the crag and take everything they brought
  in with them out again. Should be a great day!\n\nthecrag page\n\nMessage
  me if you can drive. As far as I'm aware leaders will be driving and leav
 ing from uni/inner west Sydney\n\nIf you sign up\, I will try and find you
  on facebook and add you in a group chat so we can organise things\n\nYou 
 will need:\n\n	Helmet\n	Harness\n	ATC and biner\n	Climbing shoes\n	Chalk\n
 	Lunch\, snacks and water\n	Money for petrol for your driver/money for din
 ner afterwards\n\nAb doggy dog
CATEGORIES:Outdoor Climbing
END:VEVENT
END:VCALENDAR