BEGIN:VCALENDAR
VERSION:2.0
PRODID:-//wp-events-plugin.com//7.2.3.1//EN
TZID:Australia/Sydney
X-WR-TIMEZONE:Australia/Sydney
BEGIN:VEVENT
UID:753@unswoc.org
DTSTART:20150313T130000Z
DTEND:20150313T130000Z
DTSTAMP:20150311T034324Z
URL:https://unswoc.org/wordpress/events/beginnerintermediate-canyon-bowens
 -creek-south/
SUMMARY:Beginner/Intermediate Canyon (Bowens Creek South)
DESCRIPTION:David &amp\; Nicola are running an intermediate canyon (Bowens 
 Creek)\, which is 15 min drive from the campsite.\n\nYou will need:\n\n	He
 lmet\n	Harness &amp\; Belay device\n	Good Quality Dry bag\n	Wetsuit (there
  are a few cold swims)\n	Enclosed Shoes (no saddles or thongs)\n\nDue to t
 he demand on wetsuits &amp\; harnesses for Boree Log\, the club will not b
 e able provide these for this trip. You will need to bring own.\n\nAt the 
 moment\, I'll limit the trip to 5 people\, unless someone has an extra car
 .\n\nhttp://ozultimate.com/canyoning/track_notes/bowens_creek_south.htm
END:VEVENT
END:VCALENDAR