BEGIN:VCALENDAR
VERSION:2.0
PRODID:-//wp-events-plugin.com//7.2.3.1//EN
TZID:Australia/Sydney
X-WR-TIMEZONE:Australia/Sydney
BEGIN:VEVENT
UID:3049@unswoc.org
DTSTART;TZID=Australia/Sydney;VALUE=DATE:20220814
DTEND;TZID=Australia/Sydney;VALUE=DATE:20220815
DTSTAMP:20220810T003752Z
URL:https://unswoc.org/wordpress/events/beginner-trad-climbing-at-mt-piddi
 ngton-sunday/
SUMMARY:*Trip Full* Beginner Trad Climbing at Mt Piddington – Sunday
DESCRIPTION:Hey everyone\,\n\nJenny\, Tad\, Peta and I (Jack) will be leadi
 ng a trad climbing trip to Mount Piddington (located in Mt Victoria) this 
 Sunday! This is a classic crag with some awesome cracks\, and good routes 
 at all grades.\n\nPiddo is a predominantly trad climbing area\, and if you
  are interested we'd be happy to teach you about trad climbing\, and give 
 you the opportunity to lead some easy routes. Or if you'd prefer to spend 
 the day top roping that's cool too!\n\n\n\nWe will meet up at 9:30am on Su
 nday morning at the Mt Piddington parking area near Mt Victoria. If you ar
 e travelling by public transport\, we can arrange to pick you up from the 
 train station.\n\nPlease include in the comments: your climbing experience
 \, whether you are able to drive and what climbing gear you already own. A
 ny gear that you require must be collected independently from the gear cup
 board at UNSW on the regular gear night.\n\n 	Gear: harness\, helmet\, cli
 mbing shoes\, ATC + carabiner (if you have your own make sure you bring it
 !!!).\n 	What to bring: sunscreen\, 2L water (minimum!)\, food for the 
 day\, sporty clothes\, a warm jacket\, a day backpack to fit all your stuf
 f inside\, camera\, smiles\, etc.\n 	Meeting point: 9:30am at the parking 
 area at the end of Mt Piddington Road\, Mt Victoria\n\n&nbsp\;\n\nPlease b
 e aware that as the weather is unpredictable\, trip leaders may need to al
 ter trips accordingly. If you have any questions\, feel free to message an
 y of us on Facebook.\n\n(Credit to Tad for this trip write-up)\n\nGet keen
 !
ATTACH;FMTTYPE=image/jpeg:https://unswoc.org/wordpress/wp-content/uploads/
 2022/05/Screenshot_2022-05-04-23-28-41-92_1c337646f29875672b5a61192b9010f9
 .jpg
CATEGORIES:Climbing,Outdoor Climbing
END:VEVENT
BEGIN:VTIMEZONE
TZID:Australia/Sydney
X-LIC-LOCATION:Australia/Sydney
BEGIN:STANDARD
DTSTART:20220403T020000
TZOFFSETFROM:+1100
TZOFFSETTO:+1000
TZNAME:AEST
END:STANDARD
END:VTIMEZONE
END:VCALENDAR