BEGIN:VCALENDAR
VERSION:2.0
PRODID:-//wp-events-plugin.com//7.2.3.1//EN
TZID:Australia/Sydney
X-WR-TIMEZONE:Australia/Sydney
BEGIN:VEVENT
UID:3112@unswoc.org
DTSTART;TZID=Australia/Sydney;VALUE=DATE:20221030
DTEND;TZID=Australia/Sydney;VALUE=DATE:20221031
DTSTAMP:20221026T004943Z
URL:https://unswoc.org/wordpress/events/beginner-trad-climbing-at-cosmic-c
 ounty/
SUMMARY:Beginner Trad Climbing at Cosmic County
DESCRIPTION:Hey friends\,\n\n&nbsp\;\n\nCam and I (Pat) will be leading a b
 eginner trad climbing trip this Sunday at Cosmic County! It's a great\, su
 nny crag with a whole variety of trad\, sport and (sometimes dodgy) mixed 
 routes\, more info on thecrag here.\n\nNo climbing experience is required\
 , as we'll set up climbs for you to toprope or second. We'll of course adj
 ust things based on what the general vibe is - if you want to chill and tr
 y out some climbs there'll be plenty to do\, if you want to learn/practise
  more skills we're more than happy to teach you! This is a great opportuni
 ty to learn how to lead climb/belay\, clean anchors and place trad gear\, 
 and to practise some mock trad leading or lead some easy trad routes.\n\nI
 n the comments\, please include: your climbing experience\, whether you ar
 e able to drive (and how many spare seats you'd have) and how and what cli
 mbing gear you already own. Any other gear that you require must be hired 
 independently from the gear cupboard at UNSW on the regular gear night.\n\
 n 	Climbing Gear: harness\, helmet\, climbing shoes\, ATC + carabiner (if 
 you have any of your own gear make sure you bring it!!!).\n 	What to bring
 : sunscreen\, 2L water (minimum!)\, food for the day\, sporty clothes\,
  a warm jacket\, a day backpack to fit all your stuff inside\, camera\, s
 miles\, etc.\n\n&nbsp\;\n\nIf you've got any questions or concerns\, feel 
 free to message Cam or I on Facebook :)
CATEGORIES:Outdoor Climbing
END:VEVENT
BEGIN:VTIMEZONE
TZID:Australia/Sydney
X-LIC-LOCATION:Australia/Sydney
BEGIN:DAYLIGHT
DTSTART:20221002T030000
TZOFFSETFROM:+1000
TZOFFSETTO:+1100
TZNAME:AEDT
END:DAYLIGHT
END:VTIMEZONE
END:VCALENDAR