BEGIN:VCALENDAR
VERSION:2.0
PRODID:-//wp-events-plugin.com//7.2.3.1//EN
TZID:Australia/Sydney
X-WR-TIMEZONE:Australia/Sydney
BEGIN:VEVENT
UID:3269@unswoc.org
DTSTART;TZID=Australia/Sydney;VALUE=DATE:20230702
DTEND;TZID=Australia/Sydney;VALUE=DATE:20230703
DTSTAMP:20230701T230051Z
URL:https://unswoc.org/wordpress/events/beginner-sport-climbing-trip-sunda
 y-2nd-july/
SUMMARY:*FULL* Beginner Sport Climbing Trip - Sunday 2nd July
DESCRIPTION:Hey everyone!\n\nCaity\, Amelia and I will be heading to Narrab
 een\, a crag in the Northern Beaches. This is a good opportunity get start
 ed with outdoor climbing\, no previous experience is required. We’ll tea
 ch you everything you need to know on the day!\n\nNote: The trip will go a
 head depending on the weather\, we’ll make a call closer to the date.\n\
 n[caption id="attachment_15161" align="aligncenter" width="1024"] Alfie at
  Paradiso\, TAS[/caption]\n\nPlease bring the following:\n\n 	Harness*\n 	
 Helmet*\n 	Climbing shoes*\n 	Belay device + locking carabiner* (e.g. ATC\
 , GriGri)\n 	Safety sling + locking carabiner* (if you want to learn how t
 o clean a route)\n 	Chalk\, if you have*\n\n*Gear can be borrowed at the G
 ear Cupboard at UNSW usually on Thursdays 5-6pm. Check Facebook for the l
 atest details. You don’t need to pay for rental\, but bring cash for a d
 eposit\n\nAnd don’t forget:\n\n 	Sunscreen/hat\n 	2L water\n 	Food and s
 nacks for the day\n 	Sporty clothes and comfy shoes\n 	Warm jumper\n 	Dayp
 ack to fit all of the above inside\n\nPlease include in the comments: your
  climbing experience\, your favourite chocolate (give me brand and type)\,
  and if you have a car!\n\nIf you have any questions\, feel free to messag
 e us on Facebook.\n\nHope to see you guys there 🙂\n\n-Linna
CATEGORIES:Climbing,Outdoor Climbing
END:VEVENT
BEGIN:VTIMEZONE
TZID:Australia/Sydney
X-LIC-LOCATION:Australia/Sydney
BEGIN:STANDARD
DTSTART:20230402T020000
TZOFFSETFROM:+1100
TZOFFSETTO:+1000
TZNAME:AEST
END:STANDARD
END:VTIMEZONE
END:VCALENDAR