BEGIN:VCALENDAR
VERSION:2.0
PRODID:-//wp-events-plugin.com//7.2.3.1//EN
TZID:Australia/Sydney
X-WR-TIMEZONE:Australia/Sydney
BEGIN:VEVENT
UID:3036@unswoc.org
DTSTART;TZID=Australia/Sydney;VALUE=DATE:20220730
DTEND;TZID=Australia/Sydney;VALUE=DATE:20220731
DTSTAMP:20220726T120704Z
URL:https://unswoc.org/wordpress/events/beginner-sport-climbing-thompsons-
 point/
SUMMARY:[***TRIP FULL***] Beginner Sport Climbing @ Thompson's Point
DESCRIPTION:Hello!\n\nOn Saturday 30th July\, Xab\, Daniel\, Zee and I (Cin
 dy) will be running a beginner climbing trip to Thompson's point at Nowra.
 \n\nThe plan is to arrive at a reasonable time on Sat morning and climb al
 l day - packing up and getting out before the sun sets. We will be setting
  up top ropes for everyone to climb\, no prior climbing experience is need
 ed.\n\nYou will need:\n\n 	Personal climbing gear: A harness\, helmet\, 
 locking carabiner\, belay device/ATC\, climbing shoes\n\n 	all are avail
 able at the gear shed with a deposit\, no rental fee\n 	if you have your o
 wn gear please bring it\n\n\n 	For clothing: Wear clothes you are comfort
 able climbing in (i.e. sporty) as well as extra layers (i.e. jumpers\, coa
 ts\, gloves\, hats) as it will be cold!\n 	For sustenance: 2 L of water\, 
 lunch\, and snacks\n 	Other gear: Head torch\, medicines if you need them 
 (asthma puffer\, etc)\, backpack to carry everything in\, comfortable snea
 kers / hiking boots to walk down to the crag\n\nLeave a comment to let us 
 know your experience\, where you will be driving from if you have a car\, 
 and what your favourite hot beverage type / flavour is! (I personally am v
 ery fond of Rooibos tea)\n\nFeel free to message Xab or I on FB if you hav
 e any questions\n\n&nbsp\;\n\nThanks to Sammy for the template!\n\n&nbsp\;
 \n\n&nbsp\;
CATEGORIES:Climbing,Outdoor Climbing
END:VEVENT
BEGIN:VTIMEZONE
TZID:Australia/Sydney
X-LIC-LOCATION:Australia/Sydney
BEGIN:STANDARD
DTSTART:20220403T020000
TZOFFSETFROM:+1100
TZOFFSETTO:+1000
TZNAME:AEST
END:STANDARD
END:VTIMEZONE
END:VCALENDAR