BEGIN:VCALENDAR
VERSION:2.0
PRODID:-//wp-events-plugin.com//7.2.3.1//EN
TZID:Australia/Sydney
X-WR-TIMEZONE:Australia/Sydney
BEGIN:VEVENT
UID:3658@unswoc.org
DTSTART;TZID=Australia/Sydney;VALUE=DATE:20250927
DTEND;TZID=Australia/Sydney;VALUE=DATE:20250928
DTSTAMP:20250926T225613Z
URL:https://unswoc.org/wordpress/events/beginner-sport-climbing-the-sunbat
 h/
SUMMARY:Beginner Sport Climbing @ The Sunbath
DESCRIPTION:Hey everyone!\n\nAmelia and I (Raff) are keen to take some new 
 members out to The Sunbath. There is a huge range of grades so there's som
 ething for everyone. No experience doing anything is required\, just a bas
 ic level of physical fitness. If you have any questions\, just message Ame
 lia or myself.\n\nThis is another trip targeted towards new members\, with
  a preference for the people who were rejected from the Bardens Lookout Tr
 ip. To be let on the trip please let us know your least favourite number a
 nd why so that we know you have read the description.\nWhat To Bring:\n\n 
 	Harness *\n 	Helmet *\n 	Climbing Shoes *\n 	ATC *\n 	Locking Carabiner *
 \n 	Enclosed shoes for the approach\n 	A backpack for your stuff and whate
 ver gear we make you carry\n 	Lunch and snacks\n 	Minimum 2L water\n 	Any 
 medications you need\n 	Any extra gear you want\n\nItems with a * can be b
 orrowed from the gear cupboard on thursdays\, if you cannot make the cupbo
 ard please let us know and we will borrow it on your behalf.\n\nWe will or
 ganise carpooling and go over more details in a messenger group chat\, so 
 if you get accepted on the trip please check your message requests. If you
 r facebook profile is not already on your account please put it in your co
 mment.\n\nIn your comment please let us know what climbing experience you 
 have\, any skills you would like to learn and anything else you feel is im
 portant.
CATEGORIES:Outdoor Climbing
LOCATION:https://maps.app.goo.gl/L1RQnnqU2akQVaXt6
END:VEVENT
BEGIN:VTIMEZONE
TZID:Australia/Sydney
X-LIC-LOCATION:Australia/Sydney
BEGIN:STANDARD
DTSTART:20250406T020000
TZOFFSETFROM:+1100
TZOFFSETTO:+1000
TZNAME:AEST
END:STANDARD
END:VTIMEZONE
END:VCALENDAR