BEGIN:VCALENDAR
VERSION:2.0
PRODID:-//wp-events-plugin.com//7.2.3.1//EN
TZID:Australia/Sydney
X-WR-TIMEZONE:Australia/Sydney
BEGIN:VEVENT
UID:2408@unswoc.org
DTSTART;VALUE=DATE:20190504
DTEND;VALUE=DATE:20190505
DTSTAMP:20190501T005040Z
URL:https://unswoc.org/wordpress/events/beginner-sport-climbing-saturday/
SUMMARY:Beginner sport climbing - SATURDAY
DESCRIPTION:Last event of the term\, Brendon\, Kieran. Jeffrey and I are go
 ing climbing to Bangor West (Sutherland)!\n\nSince this is our last trip w
 e wanted to organise an inclusive trip\, so 15 of us will head to Bangor W
 est\, a beginner friendly crag 30 min drive from UNSW. As always\, drivers
  and people with cars will get preference\, so mention if you have a car.\
 n\nFor this trip you will need:\n\n 	Climbing gear: helmet\, harness\, cli
 mbing shoes\, 1 ATC\, 1 locking carabiner (everything can be borrowed from
  the gear cupboard\, or bring your own if you have) + chalk.\n 	Non-climbi
 ng gear: food and water for the day\, sport clothes\, a warm jacket\, sunc
 reen\, personal medicines if needed.\n\nWe will set up top ropes so no out
 doors climbing experience is required. If you are working on your lead cli
 mbing skills\, knots or cleaning\, say so in the comments and we will get 
 one of the trip leaders to supervise you/give feedback/teach you\, so you 
 will have the opportunity to work on these skills further.\n\nIf you have 
 any questions\, shoot me a msg (Maria LC). Time to go climbing!\n\n&nbsp\;
 \n\n&nbsp\;
CATEGORIES:Outdoor Climbing
END:VEVENT
END:VCALENDAR