BEGIN:VCALENDAR
VERSION:2.0
PRODID:-//wp-events-plugin.com//7.2.3.1//EN
TZID:Australia/Sydney
X-WR-TIMEZONE:Australia/Sydney
BEGIN:VEVENT
UID:3177@unswoc.org
DTSTART;TZID=Australia/Sydney:20230128T100000
DTEND;TZID=Australia/Sydney:20230128T180000
DTSTAMP:20230124T072714Z
URL:https://unswoc.org/wordpress/events/beginner-sport-climbing-saturday-2
 8th-january-dural/
SUMMARY:Beginner Sport Climbing - Saturday 28th January - Dural
DESCRIPTION:***Trip is now full\, please sign up below if you would like to
  join the waiting list!***\n\nHey all!\n\nWant to put your sport climbing 
 theory into practice? Next Saturday Nic\, Gabe\, Caity and I (Linna) will 
 be heading to Dural\, a crag in North West Sydney. Dural is a great crag t
 o transition into outdoor lead\, we can also set up top ropes for those wh
 o would like them!\n\n[caption id="attachment_14412" align="aligncenter" w
 idth="300"] Sentinel Cave\, Grampians[/caption]\n\n[caption id="attachment
 _14411" align="aligncenter" width="224"] Lower Tier\, Dural[/caption]\n\n 
    \n\nWe will be meeting at the end of Quarry Road\, Dural at 10am on t
 he 28th of January. \n\nPlease bring the following:\n\n 	Harness*\n 	Helme
 t*\n 	Climbing shoes*\n 	Belay device + locking carabiner* (e.g. ATC\, Gri
 Gri)\n 	Safety sling + locking carabiner* (for cleaning routes)\n 	Chalk\,
  if you have*\n\n*Gear can be borrowed at the Gear Cupboard at UNSW during
  Gear Night (usually Thursday evening)\, please check Facebook for the lat
 est details\n\nAnd don't forget:\n\n 	Sunscreen/hat\n 	2L water (minimum!)
 \n 	Food and snacks for the day\n 	Sporty clothes\n 	Enclosed shoes for th
 e 30 minute approach\n 	Warm jumper\n 	Daypack to fit all of the above ins
 ide\n\nPlease include in the comments: your climbing experience\, whether 
 you are able to drive and where you are driving from.\n\nIf you have any q
 uestions\, feel free to message us on Facebook.\n\nSee you guys at Dural :
 )
CATEGORIES:Outdoor Climbing
END:VEVENT
BEGIN:VTIMEZONE
TZID:Australia/Sydney
X-LIC-LOCATION:Australia/Sydney
BEGIN:DAYLIGHT
DTSTART:20221002T030000
TZOFFSETFROM:+1000
TZOFFSETTO:+1100
TZNAME:AEDT
END:DAYLIGHT
END:VTIMEZONE
END:VCALENDAR