BEGIN:VCALENDAR
VERSION:2.0
PRODID:-//wp-events-plugin.com//7.2.3.1//EN
TZID:Australia/Sydney
X-WR-TIMEZONE:Australia/Sydney
BEGIN:VEVENT
UID:2915@unswoc.org
DTSTART;TZID=Australia/Sydney;VALUE=DATE:20210612
DTEND;TZID=Australia/Sydney;VALUE=DATE:20210613
DTSTAMP:20210609T035136Z
URL:https://unswoc.org/wordpress/events/beginner-sport-climbing-bonnet-bay
 /
SUMMARY:Beginner Sport Climbing - Bonnet Bay
DESCRIPTION:Hey! Kieran and I (Cam) will lead a beginner sport climbing tri
 p this weekend.\n\nWith snow in the mountains we'll be staying in Sydney\,
  heading down to the shire to clip some bolts. Let us know what grades app
 rox you’d like to climb! (if you don’t know what grade\, that’s okay
 ! you can write in the comments how often you climb indoors).\n\nThe plan:
  Get down to Bonnet Bay by train or car (carpool\, do you have a car and c
 an drive people? if so you’ll get preference) on Saturday morning\, spen
 d an awesome day climbing\, head back to Sydney in the evening.\n\nYou wil
 l need to bring:\n\nClimbing gear:\n\n 	Harness*\n 	Climbing Shoes*\n 	Hel
 met*\n 	Belay device and locking carabiner*\n 	Chalk Bag (optional but re
 commended)\n\n(*) – Can be borrowed from the gear shed at UNSW 4-5pm Thu
 rsday\, hire is free for club trips but remember to bring cash for a depos
 it!\n\nOther:\n\n 	At least 2L of water\n 	Food and snacks for the day\n 	
 Sunscreen\n 	Personal medicines (epipen\, antihistamines\, etc.)\n 	Comfo
 rtable shoes for the crag + warm jacket\n 	Some cash for petrol for your d
 river.\n\nAny questions let us know! See ya there!
CATEGORIES:Climbing,Outdoor Climbing
END:VEVENT
BEGIN:VTIMEZONE
TZID:Australia/Sydney
X-LIC-LOCATION:Australia/Sydney
BEGIN:STANDARD
DTSTART:20210404T020000
TZOFFSETFROM:+1100
TZOFFSETTO:+1000
TZNAME:AEST
END:STANDARD
END:VTIMEZONE
END:VCALENDAR