BEGIN:VCALENDAR
VERSION:2.0
PRODID:-//wp-events-plugin.com//7.2.3.1//EN
TZID:Australia/Sydney
X-WR-TIMEZONE:Australia/Sydney
BEGIN:VEVENT
UID:3080@unswoc.org
DTSTART;TZID=Australia/Sydney;VALUE=DATE:20221003
DTEND;TZID=Australia/Sydney;VALUE=DATE:20221004
DTSTAMP:20220928T234244Z
URL:https://unswoc.org/wordpress/events/beginner-sport-climbing-bonnet-bay
 -2/
SUMMARY:Beginner Sport Climbing – Bonnet Bay
DESCRIPTION:Hey! Sam and I (Kieran) will lead a beginner sport climbing tri
 p next Monday on the 3rd of October 2022 (Public holiday).\n\nWe’ll be t
 ravelling down to the shire to clip some bolts. Let us know what grades ap
 prox you’d like to climb! (if you don’t know what grade\, that’s oka
 y! you can write in the comments how often you climb indoors).\n\nThe plan
 : Get down to Bonnet Bay by train or car (carpool\, do you have a car and 
 can drive people? if so you’ll get preference) on Monday morning\, spend
  an awesome day climbing\, head back to Sydney in the evening.\n\nYou will
  need to bring:\n\nClimbing gear:\n\n 	Harness*\n 	Climbing Shoes*\n 	Helm
 et*\n 	Belay device and locking carabiner*\n 	Chalk Bag (optional but rec
 ommended)\n\n(*) – Can be borrowed from the gear shed at UNSW 5-6pm Thur
 sday\, hire is free for club trips but remember to bring cash for a deposi
 t!\n\nOther:\n\n 	At least 2L of water\n 	Food and snacks for the day\n 	S
 unscreen\n 	Personal medicines (epipen\, antihistamines\, etc.)\n 	Comfor
 table shoes for the crag + warm jacket\n 	Some cash for petrol for your dr
 iver.\n\nAny questions let us know! See ya there!
CATEGORIES:Climbing,Outdoor Climbing
END:VEVENT
BEGIN:VTIMEZONE
TZID:Australia/Sydney
X-LIC-LOCATION:Australia/Sydney
BEGIN:DAYLIGHT
DTSTART:20221002T030000
TZOFFSETFROM:+1000
TZOFFSETTO:+1100
TZNAME:AEDT
END:DAYLIGHT
END:VTIMEZONE
END:VCALENDAR