BEGIN:VCALENDAR
VERSION:2.0
PRODID:-//wp-events-plugin.com//7.2.3.1//EN
TZID:Australia/Sydney
X-WR-TIMEZONE:Australia/Sydney
BEGIN:VEVENT
UID:3513@unswoc.org
DTSTART;TZID=Australia/Sydney:20241124T090000
DTEND;TZID=Australia/Sydney:20241124T170000
DTSTAMP:20241116T111832Z
URL:https://unswoc.org/wordpress/events/beginner-sport-climbing-berowra/
SUMMARY:FULL - Beginner Sport Climbing - Berowra
DESCRIPTION:Hey Everyone!\n\nGabriel and I (Amelia V) will be leading a beg
 inner friendly sport climbing trip on Sunday November 24th to Berowra.  I
 t’s a great place for all skill and experience levels as there are a ran
 ge of grades and styles. We will be setting up top ropes for most the clim
 bs so no experience is required\, only a keen attitude! If you'd like to l
 earn some more advanced skills like lead climbing or even some self rescue
 \, let us know in the comments\, we're more than happy to teach.\n\nWe rev
 iew all trip sign ups and you’ll receive an automated email if you get a
 ccepted or rejected for the trip. If you’ve been accepted\, check Messen
 ger as we will make a group chat with all the participants. If you’re ha
 ving issues signing up\, check that you’re logged in and have a paid mem
 bership. In terms of transport\, we will organise carpooling in the group 
 chat. Please note that this will be an all day adventure.\n\nIf you’d li
 ke to check out some of the routes on the crag\, click HERE\n\n\n\n&nbsp\;
 \n\n[caption id="attachment_17540" align="alignright" width="304"] Obligat
 ory Cool Climbing Photo :)[/caption]\n\nThings to bring:\n\n 	Harness*\n 	
 Helmet*\n 	ATC with a carabiner*\n 	Safety sling*\n 	Climbing shoes*\n 	Lu
 nch\, snacks\n 	At least 2L Water\n 	Hat\, sunscreen\n 	Jacket\n 	Medicati
 ons if you need them (asthma puffer\, epi-pen etc.)\n 	Any sport climbing 
 gear you may own\n 	Good vibes!\n\n* Gear can be borrowed from the gear cu
 pboard\, usually on Thursday 5-6pm. Please check UNSWOC Facebook page for 
 latest gear shed details\n\n&nbsp\;\n\n\n\nIf you’d like to come along\,
  in the comment box below\, please put your climbing experience\, your mes
 senger/facebook profile link (so we can get in contact with you if you’r
 e approved). If you have a car\, tell us how many car spots you have and w
 here you’d be driving from. Lastly\, let us know your favourite dessert!
  (If you don't like desserts\, then favourite desert is acceptable)\n\nIf 
 you have any questions\, feel free to reach out to Gabriel or myself (http
 s://www.facebook.com/amelia.vas.520/)
CATEGORIES:Outdoor Climbing
LOCATION:https://www.google.com/maps/dir/-33.9171211,151.2219126/-33.603305
 ,151.147728/@-33.7605359,150.9700517,11z/data=!3m1!4b1!4m4!4m3!1m1!4e1!1m0
 ?entry=ttu&g_ep=EgoyMDI0MTExMi4wIKXMDSoASAFQAw%3D%3D
END:VEVENT
BEGIN:VTIMEZONE
TZID:Australia/Sydney
X-LIC-LOCATION:Australia/Sydney
BEGIN:DAYLIGHT
DTSTART:20241006T030000
TZOFFSETFROM:+1000
TZOFFSETTO:+1100
TZNAME:AEDT
END:DAYLIGHT
END:VTIMEZONE
END:VCALENDAR