BEGIN:VCALENDAR
VERSION:2.0
PRODID:-//wp-events-plugin.com//7.2.3.1//EN
TZID:Australia/Sydney
X-WR-TIMEZONE:Australia/Sydney
BEGIN:VEVENT
UID:3657@unswoc.org
DTSTART;TZID=Australia/Sydney;VALUE=DATE:20250920
DTEND;TZID=Australia/Sydney;VALUE=DATE:20250921
DTSTAMP:20250919T201039Z
URL:https://unswoc.org/wordpress/events/beginner-sport-climbing-bardens-lo
 okout/
SUMMARY:Beginner Sport Climbing @ Bardens Lookout
DESCRIPTION:Hey crushers!\n\nGabe and I (Raff) are keen to take some new me
 mbers out to Bardens Lookout\, specifically Little Triggers wall which has
  some super easy stuff that's pretty tall as well. There is a huge range o
 f grades so there's something for everyone. No experience doing anything i
 s required\, just a basic level of physical fitness. Preference will be gi
 ven to new members. If you have any questions\, just message Gabe or mysel
 f. To be let onto the trip\, let us know whether you think it's ok to orde
 r a kids meal as an adult to save money so that we know you have read the 
 description.\nWhat To Bring:\n\n 	Harness *\n 	Helmet *\n 	Climbing Shoes 
 *\n 	ATC *\n 	Locking Carabiner *\n 	Enclosed shoes for the approach\n 	A 
 backpack for your stuff and whatever gear we make you carry\n 	Lunch and s
 nacks\n 	Minimum 2L water\n 	Any medications you need\n 	Any extra gear yo
 u want\n\nItems with a * can be borrowed from the gear cupboard on thursda
 ys\, if you cannot make the cupboard please let us know and we will borrow
  it on your behalf.\n\nWe will organise carpooling and go over more detail
 s in a messenger group chat\, so if you get accepted on the trip please ch
 eck your message requests. If your facebook profile is not already on your
  account please put it in your comment.\n\nIn your comment please let us k
 now what climbing experience you have\, any skills you would like to learn
  and anything else you feel is important.
CATEGORIES:Outdoor Climbing
LOCATION:https://maps.app.goo.gl/mC2sTkUa1tqgktXt9
END:VEVENT
BEGIN:VTIMEZONE
TZID:Australia/Sydney
X-LIC-LOCATION:Australia/Sydney
BEGIN:STANDARD
DTSTART:20250406T020000
TZOFFSETFROM:+1100
TZOFFSETTO:+1000
TZNAME:AEST
END:STANDARD
END:VTIMEZONE
END:VCALENDAR