BEGIN:VCALENDAR
VERSION:2.0
PRODID:-//wp-events-plugin.com//7.2.3.1//EN
TZID:Australia/Sydney
X-WR-TIMEZONE:Australia/Sydney
BEGIN:VEVENT
UID:3633@unswoc.org
DTSTART;TZID=Australia/Sydney:20250816T100000
DTEND;TZID=Australia/Sydney:20250816T160000
DTSTAMP:20250815T081516Z
URL:https://unswoc.org/wordpress/events/beginner-sport-climbing-bangor-wes
 t/
SUMMARY:Beginner Sport Climbing @ Bangor West
DESCRIPTION:Do you need an excuse to not study for exams? Me too! Come join
  us for a bit of fun at Bangor West on Saturday. It's some chill climbing 
 that doesn't take multiple hours to get to. The walls are pretty short (~1
 0m)\, but still a good time. We're posting this pretty late\, so get in qu
 ick and grab what you need from the gear cupboard on Thursday. We will gra
 b some helmets and harnesses for late sign ups\, so if there are spots lef
 t you can still sign up even if you missed the gear cupboard.\n\nWe will s
 et up top-ropes\, and we are also happy for people to lead. We can help pe
 ople with limited leading experience get some practice mock leading. Wheth
 er you have never climbed before or have a decent bit of experience\, ther
 e will be something you will enjoy. Grades range from 13 to 24. To be let 
 on the trip\, let us know which exam you will be procrastinating in your c
 omment. If you don't have exams let us know what other important things yo
 u plan on ignoring to climb some rocks.\n\nIf you have any questions at al
 l please shoot Micah or myself a message on Facebook.\nWhat To Bring:\n\n 
 	Harness *\n 	Helmet *\n 	Climbing Shoes *\n 	Enclosed shoes for the appro
 ach\n 	Some warm clothes\n 	A backpack for your stuff and whatever gear we
  make you carry\n 	Lunch and snacks\n 	Minimum 2L water\n 	Any medications
  you need\n 	Any extra gear you want\n\nItems with a * can be borrowed fro
 m the gear cupboard. Micah and i will borrow the ropes\, quickdraws\, bela
 y devices\, quads and some slings from the gear cupboard.\n\nWe will organ
 ise carpooling and go over more details in a messenger group chat\, so if 
 you get accepted on the trip please check your message requests. If your f
 acebook profile is not already on your account please put it in your comme
 nt.\n\nIn your comment please let us know what climbing experience you hav
 e\, any skills you would like to learn and anything else you feel is impor
 tant.\n\n&nbsp\;
CATEGORIES:Outdoor Climbing
LOCATION:https://maps.app.goo.gl/yTRX3RnE53Fi116z8
END:VEVENT
BEGIN:VTIMEZONE
TZID:Australia/Sydney
X-LIC-LOCATION:Australia/Sydney
BEGIN:STANDARD
DTSTART:20250406T020000
TZOFFSETFROM:+1100
TZOFFSETTO:+1000
TZNAME:AEST
END:STANDARD
END:VTIMEZONE
END:VCALENDAR