BEGIN:VCALENDAR
VERSION:2.0
PRODID:-//wp-events-plugin.com//7.2.3.1//EN
TZID:Australia/Sydney
X-WR-TIMEZONE:Australia/Sydney
BEGIN:VEVENT
UID:3539@unswoc.org
DTSTART;TZID=Australia/Sydney:20250309T100000
DTEND;TZID=Australia/Sydney:20250309T160000
DTSTAMP:20250303T000229Z
URL:https://unswoc.org/wordpress/events/beginner-sport-climbing-bangor-wes
 t-9-3-25/
SUMMARY:FULL - BEGINNER SPORT CLIMBING 'Bangor West' 9/3/25
DESCRIPTION:Hey Everyone!\n\nAmelia V\, and Myself (Gabriel) will be runnin
 g a beginners sport climbing trip to Bangor West Climbing Crag. (40 mins s
 outh west of UNSW)\n\nThis trip is for anyone\, with any level of climbing
  abilities\, however is it recommended that you have at least done a top r
 ope induction at the ledge :).\n\nJust before you jump right in\, please r
 ead allllll of the info on this page.... hint hint hint......\n\n&nbsp\;\n
 \nTrip Key Details:\n\nDate: 9/3/25\nLocation: Woronora\, New South Wales 
 2232\n                                        -34.0242
 93\,151.034299\n\n\nParking = Adaluma Ave\n\nMeeting Time: 10am at the Car
 park\nDeparture time\, Approx. 4pm\n\n\n\n\nGear Required\,\n\n 	Water - A
 t least 2L CRITICAL\n 	Food: lunch\, snacks. CRITICAL\n 	Helmet*\n 	Harnes
 s*\n 	Belay device and a carabiner*\n 	Climbing shoes* (optional but highl
 y recommended)\n 	Sunscreen + Sun Appropriate Clothing (HAT)\, / Winter Cl
 othing\n\n\nItems with an asterisk (*) can be borrowed from the gear cupbo
 ard.\n\n\n\nIf you're keen\, check out the climbs on the Crag:\n\nhttps://
 www.thecrag.com/en/climbing/australia/sutherland/area/13083847\n\n\n\nOnce
  you have been approved for the trip\, we'll make a messenger chat and can
  sort out any gear you may need\, and carpooling :)\n\nFinally\, and most 
 importantly\, if you could an impractical object while climbing\, what wou
 ld it be and why?\n\n&nbsp\;\n\nAlso let us know your climbing experience 
 and make sure the link to your facebook is either in your account profile 
 or add it to the comment. If you have a car\, write how many spare seats y
 ou'll have. Thank you! Get keeeeen!\n\n&nbsp\;\n\nHope to see you all soon
 ! If you are unsure about anything\, please mssg any one of the trip leade
 rs!\n\n&nbsp\;\n\nStay keen! Amelia V\, and Gabriel D\n\n&nbsp\;
CATEGORIES:Outdoor Climbing
LOCATION:https://www.google.com/maps/place/34%C2%B001'27.5%22S+151%C2%B002'
 03.5%22E/@-34.0242885,151.0317241,687m/data=!3m2!1e3!4b1!4m4!3m3!8m2!3d-34
 .024293!4d151.034299?entry=ttu&g_ep=EgoyMDI1MDIyNC4wIKXMDSoJLDEwMjExNDUzSA
 FQAw%3D%3D
END:VEVENT
BEGIN:VTIMEZONE
TZID:Australia/Sydney
X-LIC-LOCATION:Australia/Sydney
BEGIN:DAYLIGHT
DTSTART:20241006T030000
TZOFFSETFROM:+1000
TZOFFSETTO:+1100
TZNAME:AEDT
END:DAYLIGHT
END:VTIMEZONE
END:VCALENDAR