BEGIN:VCALENDAR
VERSION:2.0
PRODID:-//wp-events-plugin.com//7.2.3.1//EN
TZID:Australia/Sydney
X-WR-TIMEZONE:Australia/Sydney
BEGIN:VEVENT
UID:3462@unswoc.org
DTSTART;TZID=Australia/Sydney;VALUE=DATE:20240803
DTEND;TZID=Australia/Sydney;VALUE=DATE:20240804
DTSTAMP:20240802T040003Z
URL:https://unswoc.org/wordpress/events/beginner-sport-climbing-bangor-wes
 t-3-8-24/
SUMMARY:**FULL** BEGINNER SPORT CLIMBING 'Bangor West' 3/8/24
DESCRIPTION:Hey Everyone!\n\nAmelia V\, Aaron W\, Jemma H and Myself (Gabri
 el) will be running a beginners sport climbing trip to Bangor West Climbin
 g Crag. (40 mins south west of UNSW)\n\nThis trip is for anyone\, with any
  level of climbing abilities\, however is it recommended that you have at 
 least done a top rope induction at the ledge :).\n\nJust before you jump r
 ight in\, please read allllll of the info on this page.... hint hint hint.
 .....\n\n\n\n\nNiels Stecher absolutely crushing it on a\, what looks to b
 e grade 35!!! In Damns Cliffs... ON BOREELOG!!!!\n\n\n\n\nTrip Key Details
 :\n\nDate: 3/8/24\nLocation: Woronora\, New South Wales 2232\n        
                                 -34.024293\,151.034299\n\n
 \nParking = Adaluma Ave\n\nMeeting Time: 10am at the Carpark\nDeparture ti
 me\, Approx. 4pm\n\n\n\n\nGear Required\,\n\n 	Water - At least 2L CRITICA
 L\n 	Food: lunch\, snacks. CRITICAL\n 	Helmet*\n 	Harness*\n 	Belay device
  and a carabiner*\n 	Climbing shoes* (optional but highly recommended)\n 	
 Sunscreen + Sun Appropriate Clothing (HAT)\, / Winter Clothing\n\n\nItems 
 with an asterisk (*) can be borrowed from the gear cupboard.\n\n\n\nIf you
 're keen\, check out the climbs on the Crag:\n\nhttps://www.thecrag.com/en
 /climbing/australia/sutherland/area/13083847\n\n\n\nOnce you have been app
 roved for the trip\, we'll make a messenger chat and can sort out any gear
  you may need\, and carpooling :)\n\nFinally\, and most importantly\, if y
 ou could have any plush toy\, what would it be\, how large\, and why? Also
  let us know your climbing experience and make sure the link to your faceb
 ook is either in your account profile or add it to the comment. If you hav
 e a car\, write how many spare seats you'll have. Thank you! Get keeeeen!\
 n\n&nbsp\;\n\nHope to see you all soon! If you are unsure about anything\,
  please mssg any one of the trip leaders!\n\n&nbsp\;\n\nKindly\, Amelia V\
 , Aaron W\, Jemma H and Gabriel\n\n&nbsp\;\n\n&nbsp\;
CATEGORIES:Climbing,Outdoor Climbing
LOCATION:https://www.google.com/maps/dir/-33.8242475,151.1853227/-34.024293
 ,151.034299/@-34.022589,151.0307647,15z/data=!4m4!4m3!1m1!4e1!1m0?entry=tt
 u
END:VEVENT
BEGIN:VTIMEZONE
TZID:Australia/Sydney
X-LIC-LOCATION:Australia/Sydney
BEGIN:STANDARD
DTSTART:20240407T020000
TZOFFSETFROM:+1100
TZOFFSETTO:+1000
TZNAME:AEST
END:STANDARD
END:VTIMEZONE
END:VCALENDAR