BEGIN:VCALENDAR
VERSION:2.0
PRODID:-//wp-events-plugin.com//7.2.3.1//EN
TZID:Australia/Sydney
X-WR-TIMEZONE:Australia/Sydney
BEGIN:VEVENT
UID:3253@unswoc.org
DTSTART;TZID=Australia/Sydney;VALUE=DATE:20230506
DTEND;TZID=Australia/Sydney;VALUE=DATE:20230507
DTSTAMP:20230502T111317Z
URL:https://unswoc.org/wordpress/events/beginner-sport-climbing-at-shipley
 -upper-saturday/
SUMMARY:Beginner Sport Climbing at Shipley Upper - Saturday
DESCRIPTION:Hi everyone\,\n\nThis Saturday Zee and I (Jack) will be running
  a sport climbing trip to Shipley Upper in the Blue Mountains! This is a g
 reat beginner crag\, and would suit those looking to go climbing outdoors 
 for the first time\, or anyone else keen to develop their skills. The walk
 -in is fairly short\, and there are plenty of climbs in the range of grade
 s from 15-20.\n\n[caption id="attachment_13313" align="alignright" width="
 300"] Climbing pic of Pat in the Blue Mountains :)[/caption]\n\n&nbsp\;\n\
 nThe plan is to meet up at 10am on Saturday morning at the Shipley carpark
  near Blackheath\, and climb until late in the afternoon. We will arrange 
 car-pooling\, or if you are travelling by public transport\, we can arrang
 e to pick you up from the Blackheath train station.\n\nPlease include in t
 he comments: your climbing experience\, whether you are able to drive\, wh
 ere you are driving from\, and your favourite crag snack. Any gear that yo
 u require must be collected independently from the gear cupboard at UNSW t
 his Thursday at 5pm.\n\n 	Gear*: harness\, helmet\, climbing shoes\, ATC +
  carabiner (if you have your own make sure you bring it!!!)\n 	What to bri
 ng: sunscreen\, 2L water (minimum!)\, food for the day\, sporty clothes\, 
 a warm jacket (the Blue Mountains often gets really cold!)\, a day backpac
 k to fit all your stuff inside\, camera\, smiles\, etc.\n 	Meeting point: 
 10am at Shipley carpark.\n\nIf you have any questions\, feel free to messa
 ge us on Facebook.\n\n*Please include a link to your Facebook profile in t
 he comments if you don't already have it displayed on your UNSWOC profile.
 \n\nGet keen!
ATTACH;FMTTYPE=image/jpeg:https://unswoc.org/wordpress/wp-content/uploads/
 2022/05/Screenshot_2022-05-04-23-28-41-92_1c337646f29875672b5a61192b9010f9
 .jpg
CATEGORIES:Climbing,Outdoor Climbing
END:VEVENT
BEGIN:VTIMEZONE
TZID:Australia/Sydney
X-LIC-LOCATION:Australia/Sydney
BEGIN:STANDARD
DTSTART:20230402T020000
TZOFFSETFROM:+1100
TZOFFSETTO:+1000
TZNAME:AEST
END:STANDARD
END:VTIMEZONE
END:VCALENDAR