BEGIN:VCALENDAR
VERSION:2.0
PRODID:-//wp-events-plugin.com//7.2.3.1//EN
TZID:Australia/Sydney
X-WR-TIMEZONE:Australia/Sydney
BEGIN:VEVENT
UID:3113@unswoc.org
DTSTART;TZID=Australia/Sydney;VALUE=DATE:20221105
DTEND;TZID=Australia/Sydney;VALUE=DATE:20221106
DTSTAMP:20221102T075619Z
URL:https://unswoc.org/wordpress/events/beginner-sport-climbing-at-medlow-
 bath/
SUMMARY:Beginner Sport Climbing at Medlow Bath
DESCRIPTION:Hey friends\,\n\nGabe and I (Pat) will be leading a beginner sp
 ort climbing trip this Saturday to the Sunbath at Medlow Bath - a nice chi
 ll crag with good easy-moderate climbs\, a bit of sand and a fair amount o
 f sun. More info on thecrag here.\n\nNo climbing experience is required\, 
 as we’ll set up climbs for you to toprope or second. We’ll of course a
 djust things based on what the general vibe is – if you want to chill an
 d try out some climbs there’ll be plenty to do\, if you want to learn/pr
 actise more skills we’re more than happy to teach you! This is a great o
 pportunity to learn how to lead climb and lead belay\, as well as any othe
 r skills like cleaning anchors\, abseiling\, knots\, hangdogging\, stick c
 lip tricks\, personal finances\, managing existential crises\, etc.\n\nIn 
 the comments\, please include: your climbing experience\, whether you are 
 able to drive (and how many spare seats you’d have) and what climbing ge
 ar you already own. Any other gear that you require must be hired independ
 ently from the gear cupboard at UNSW on the regular gear night.\n\n 	Climb
 ing Gear: harness\, helmet\, climbing shoes\, ATC + carabiner (if you hav
 e any of your own gear make sure you bring it!!!).\n 	What to bring: suns
 creen\, 2L water (minimum!)\, food for the day\, sporty clothes\, a war
 m jacket\, a day backpack to fit all your stuff inside\, camera\, smiles\,
  etc.\n\nIf you’ve got any questions or concerns\, feel free to message 
 Gabe or I on Facebook 🙂
CATEGORIES:Outdoor Climbing
END:VEVENT
BEGIN:VTIMEZONE
TZID:Australia/Sydney
X-LIC-LOCATION:Australia/Sydney
BEGIN:DAYLIGHT
DTSTART:20221002T030000
TZOFFSETFROM:+1000
TZOFFSETTO:+1100
TZNAME:AEDT
END:DAYLIGHT
END:VTIMEZONE
END:VCALENDAR