BEGIN:VCALENDAR
VERSION:2.0
PRODID:-//wp-events-plugin.com//7.2.3.1//EN
TZID:Australia/Sydney
X-WR-TIMEZONE:Australia/Sydney
BEGIN:VEVENT
UID:3082@unswoc.org
DTSTART;TZID=Australia/Sydney:20221008T100000
DTEND;TZID=Australia/Sydney:20221008T190000
DTSTAMP:20221004T102733Z
URL:https://unswoc.org/wordpress/events/beginner-sport-climbing-at-dural/
SUMMARY:Beginner Sport Climbing at Dural
DESCRIPTION:\n\n\n\nHey everyone!\n\n\n\n\n***Due to weather this trip has 
 been cancelled and we will be going to Sydney Indoor Climbing Gym at St Pe
 ters.***\n\n\nGabe and I (Nic) will be leading a beginner-friendly trip to
  Dural in North Sydney.\n\nThis is a lovely crag in a peaceful bush settin
 g\, with a short and relatively flat walk in - perfect for beginner and in
 termediate climbers! 😊 We're happy to set up topropes for you\, as well
  as supervise and teach any lead belay or climbing skills you wanted to pr
 actice.\n\n\n\n\n\n\n\n\n\n\nNo climbing experience is required\, but you 
 will need:\n\n 	Climbing gear: A harness*\, helmet*\, climbing shoes* and 
 chalk bag\n 	For clothing: Sport clothes. It can get quite hot or quite c
 hilly\, so be prepared for both.\n 	For sustenance: 2L of water\, food or
  snacks\, chocolate for trip leaders 😉\n 	Other gear: Sunscreen\, med
 icines if you need them (asthma puffer\, etc).\n\n(*) – Can be borrowed 
 from the gear shed at UNSW 5-6pm Thursday\, hire is free for club trips bu
 t remember to bring cash for a deposit!\n\nIf you have any questions\, mes
 sage Gabe Dickinson or myself (Nicolas Di Campli) on Facebook Messenger. W
 rite down in the comments below what gear you need\, your experience\, a
 nd whether you want to learn to lead climb!\n\n&nbsp\;\n\n\n\n\n
END:VEVENT
BEGIN:VTIMEZONE
TZID:Australia/Sydney
X-LIC-LOCATION:Australia/Sydney
BEGIN:DAYLIGHT
DTSTART:20221002T030000
TZOFFSETFROM:+1000
TZOFFSETTO:+1100
TZNAME:AEDT
END:DAYLIGHT
END:VTIMEZONE
END:VCALENDAR