BEGIN:VCALENDAR
VERSION:2.0
PRODID:-//wp-events-plugin.com//7.2.3.1//EN
TZID:Australia/Sydney
X-WR-TIMEZONE:Australia/Sydney
BEGIN:VEVENT
UID:3056@unswoc.org
DTSTART;TZID=Australia/Sydney;VALUE=DATE:20220918
DTEND;TZID=Australia/Sydney;VALUE=DATE:20220919
DTSTAMP:20220912T115711Z
URL:https://unswoc.org/wordpress/events/beginner-sport-climbing-at-dural-s
 unday/
SUMMARY:Beginner Sport Climbing at Dural - Sunday
DESCRIPTION:Hi everyone\,\n\nThis Sunday Cindy\, Peta and I will be running
  a sport climbing trip to Dural\, in North West Sydney! This is a great be
 ginner crag\, and would suit those looking to go climbing outdoors for the
  first time\, or anyone else keen to develop their skills on some shorter 
 climbs. See more here: https://www.thecrag.com/en/climbing/australia/north
 -west/area/663606603\n\n[caption id="attachment_13313" align="alignright" 
 width="300"] Climbing pic of Pat in the Blue Mountains (not where we're go
 ing this weekend :))[/caption]\n\n&nbsp\;\n\n&nbsp\;\n\n&nbsp\;\n\nWe will
  meet up at 10am on Sunday morning at the Quarry Rd parking area in Dural.
  If you are travelling by public transport\, we can arrange to pick you up
  from a nearby train station.\n\nPlease include in the comments: your clim
 bing experience\, whether you are able to drive\, where you are driving fr
 om\, and what climbing gear you already own. Any gear that you require mus
 t be collected independently from the gear cupboard at UNSW on the regular
  gear night.\n\n 	Gear*: harness\, helmet\, climbing shoes\, ATC + carabin
 er (if you have your own make sure you bring it!!!)\n 	What to bring: sun
 screen\, 2L water (minimum!)\, food for the day\, sporty clothes\, a war
 m jacket\, a day backpack to fit all your stuff inside\, camera\, smiles\,
  etc.\n 	Meeting point: 10am at the locked gate at the end of Quarry Road\
 , Dural\n\n* Gear can be borrowed from the Gearshed\, usually on Thursday 
 5-6pm. Please check UNSWOC Facebook page for latest gear shed details \n\
 nIf you have any questions\, feel free to message any of us on Facebook.\n
 \nGet keen!
ATTACH;FMTTYPE=image/jpeg:https://unswoc.org/wordpress/wp-content/uploads/
 2019/06/ledge-party-forweb.jpg
CATEGORIES:Climbing,Outdoor Climbing
END:VEVENT
BEGIN:VTIMEZONE
TZID:Australia/Sydney
X-LIC-LOCATION:Australia/Sydney
BEGIN:STANDARD
DTSTART:20220403T020000
TZOFFSETFROM:+1100
TZOFFSETTO:+1000
TZNAME:AEST
END:STANDARD
END:VTIMEZONE
END:VCALENDAR