BEGIN:VCALENDAR
VERSION:2.0
PRODID:-//wp-events-plugin.com//7.2.3.1//EN
TZID:Australia/Sydney
X-WR-TIMEZONE:Australia/Sydney
BEGIN:VEVENT
UID:3116@unswoc.org
DTSTART;TZID=Australia/Sydney;VALUE=DATE:20221126
DTEND;TZID=Australia/Sydney;VALUE=DATE:20221127
DTSTAMP:20221122T014314Z
URL:https://unswoc.org/wordpress/events/beginner-sport-climbing-at-dam-cli
 ffs/
SUMMARY:Beginner Sport Climbing at Dam Cliffs
DESCRIPTION:Hello all!\n\nDoesn't the weather just look absolutely fantasti
 c this weekend?! Where else would we head on a warm day other than to Dam 
 Cliffs for some climbs and swims and good times. Francois and I (Angela) w
 ill be running a trip there this Saturday for some nice beginner to interm
 ediate sport climbing. It’s also right next to a dam (hence the name) th
 at you can swim in\, rope swing into\, cliff jump (up to ~10m) or even try
  some deep water soloing! More info on the crag here\n\nNo climbing experi
 ence is required\, as we can set up climbs for you to top rope. We’ll of
  course adjust things based on what the general vibe is – if you want to
  learn/practice more skills\, we'd be more than happy to teach you! This w
 ill a great opportunity to learn how to lead climb and lead belay\, as wel
 l as any other skills like cleaning anchors\, abseiling\, knots etc.\n\n[c
 aption id="attachment_14283" align="alignnone" width="431"] Deep water sol
 oing is cool![/caption]\n\nWhat to bring:\n\n 	Climbing gear: A harness*\
 , helmet*\, locking carabiner*\, belay device/ATC*\, climbing shoes\, c
 halk bag.\n\n 	* = you can borrow from the gear cupboard\n 	if you have yo
 ur own gear please bring it\n\n\n 	Day trip stuff: sunscreen\, 2L water (
 minimum!)\, food for the day\, sporty clothes\, a warm jacket\, a bag for 
 carrying\, approach shoes and comfy crag shoes (the approach is very easy)
 \, any personal medicines/asthma puffer etc.\n 	Swimming things: Swimmers\
 , a towel etc. if you fancy a swim after the climbing!\n\n&nbsp\;\n\nIn th
 e comment box please tell us if you have a car\, how many spots you have i
 f so\, your climbing experience\, and where the best place you've swum in 
 the world is!\n\n&nbsp\;\n\nIf you have any questions\, feel free to messa
 ge either Francois or I on Facebook. Keen to see you there!
CATEGORIES:Climbing,Outdoor Climbing
END:VEVENT
BEGIN:VTIMEZONE
TZID:Australia/Sydney
X-LIC-LOCATION:Australia/Sydney
BEGIN:DAYLIGHT
DTSTART:20221002T030000
TZOFFSETFROM:+1000
TZOFFSETTO:+1100
TZNAME:AEDT
END:DAYLIGHT
END:VTIMEZONE
END:VCALENDAR