BEGIN:VCALENDAR
VERSION:2.0
PRODID:-//wp-events-plugin.com//7.2.3.1//EN
TZID:Australia/Sydney
X-WR-TIMEZONE:Australia/Sydney
BEGIN:VEVENT
UID:3382@unswoc.org
DTSTART;TZID=Australia/Sydney;VALUE=DATE:20240302
DTEND;TZID=Australia/Sydney;VALUE=DATE:20240303
DTSTAMP:20240229T001414Z
URL:https://unswoc.org/wordpress/events/beginner-sport-climbing-at-bell-su
 percrag/
SUMMARY:[FULL] Beginner Sport Climbing at Bell Supercrag
DESCRIPTION:This trip is now full\, it is great to see lots of enthusiasm f
 or climbing! If you missed out this time don’t worry\, we will have lots
  of other trips coming up this term so please continue to sign up in the f
 uture!\n\nHey folks!\n\nTad and myself (Crispy) will be heading to Bell Su
 percrag on Saturday 2 March for some beginner friendly sport climbing! (in
 cluding top roping)\n\nBell has it all\, with many routes of all sorts of 
 different styles and grades\, and ample shade and rain cover throughout th
 e day.\n\nThis is a great opportunity to learn more about sport climbing t
 echniques in a great place with friends.\n\nSign ups and more info can be 
 found below.\n\nMAKE SURE YOU READ ALL THE INFORMATION FIRST.\n\nMore info
  about the location can be found here on theCrag: https://www.thecrag.com/
 en/climbing/australia/blue-mountains/bell-supercrag\n\n[caption id="attach
 ment_16289" align="aligncenter" width="351"] Matt "The Wok" Cameron on Bod
 y Blow (24) at the Blowhole[/caption]\n\n\n\nWe will organise car pooling 
 for the drive to and from the Blue Mountains so please tell us in the sign
  up comments if you have a car and how many people you can take. Further 
 details such as arrival time will be provided later.\n\nWhat YOU need to b
 ring:\n\n 	Climbing shoes\n 	Chalk\n 	Food/snacks for the day\n 	At least 
 2L water\n 	Sunscreen\n 	Helmet*\n 	Harness*\n 	Belay device such as an AT
 C*\n 	Safety sling and locking carabiner*\n 	Bag to carry everything\n 	Ap
 propriate clothing for the weather\n\nItems with (*) can be borrowed from 
 the UNSW Outdoors Club gear cupboard.\n\nIf you have read all of this info
 rmation and this sounds like a trip you're keen for\, you can sign up belo
 w.\n\nPlease include in the comment: your experience (climbing experience 
 and anything else you think is relevant\, e.g. abseiling)\, anything you'r
 e particularly keen on learning\, whether you have a car and how many peop
 le you can take\, and your favourite fruit.\n\nIf you have any questions p
 lease feel free to message Tad or myself. 😎
CATEGORIES:Climbing
LOCATION:https://maps.app.goo.gl/SANCGTk5PY7zd4Rb8
END:VEVENT
BEGIN:VTIMEZONE
TZID:Australia/Sydney
X-LIC-LOCATION:Australia/Sydney
BEGIN:DAYLIGHT
DTSTART:20231001T030000
TZOFFSETFROM:+1000
TZOFFSETTO:+1100
TZNAME:AEDT
END:DAYLIGHT
END:VTIMEZONE
END:VCALENDAR