BEGIN:VCALENDAR
VERSION:2.0
PRODID:-//wp-events-plugin.com//7.2.3.1//EN
TZID:Australia/Sydney
X-WR-TIMEZONE:Australia/Sydney
BEGIN:VEVENT
UID:3546@unswoc.org
DTSTART;TZID=Australia/Sydney;VALUE=DATE:20250309
DTEND;TZID=Australia/Sydney;VALUE=DATE:20250310
DTSTAMP:20250304T085543Z
URL:https://unswoc.org/wordpress/events/beginner-sport-climbing-at-bell-su
 percrag-sunday-9-3/
SUMMARY:Beginner Sport Climbing at Bell Supercrag - Sunday 9/3
DESCRIPTION:Hey friends\,\n\nPeta and I (Pat) will be leading a beginner sp
 ort climbing trip this Saturday 9/3 to Bell Supercrag - about 2 hours west
  of the city. You can info about the crag here - we'll likely be heading t
 o Duck Wall to try and stay dry in the rain.\n\nNo climbing experience is 
 required\, as we’ll set up climbs for you to toprope or second. We can a
 djust the trip based on what the general vibe is – you can just chill ou
 t and try some climbs on toprope\, but if you want to learn/practise more 
 skills we’re more than happy to teach you! It'll be a good chance to lea
 rn how to lead climb and belay\, clean anchors\, tie knots and any other r
 elevant climbing skills\, as well as any irrelevant climbing skills.\n\nWe
 'll be meeting at the crag carpark at 10am (location here) and leaving aro
 und 6pm.\n\nWhat to bring: \n\n 	Water - at least 2L\n 	Food - lunch and 
 snacks\n 	Helmet*\n 	Harness*\n 	Belay device and carabiner*\n 	Climbing s
 hoes* (optional but highly recommended)\n 	Rainjacket and any other wet we
 ather gear - there's a non-insignificant chance we get caught out in the r
 ain\n 	Comfortable shoes to hike in - it's a 30-45 min (mostly pleasant) h
 ike to get to the crag\n 	Sunscreen\n\n* These items can be borrowed from 
 the gear cupboard on Thursday night! \n\nIf you're interested\, please si
 gn up with a comment that includes: any climbing experience you have\, whe
 ther you have a car and how many spare seats you'd have\, and the most col
 ourful thing you've seen in the last week. Once approved\, we'll add you t
 o a group chat to give any other required info and organise carpooling - p
 lease make sure that your facebook profile link is either in your account 
 or added to your comment to make our job easier here!\n\nIf you’ve got a
 ny questions or concerns\, feel free to message Peta or I on Facebook.\n\n
 See you there!
CATEGORIES:Climbing,Outdoor Climbing
LOCATION:https://maps.app.goo.gl/BezeRtVqjDYUcGeo8
END:VEVENT
BEGIN:VTIMEZONE
TZID:Australia/Sydney
X-LIC-LOCATION:Australia/Sydney
BEGIN:DAYLIGHT
DTSTART:20241006T030000
TZOFFSETFROM:+1000
TZOFFSETTO:+1100
TZNAME:AEDT
END:DAYLIGHT
END:VTIMEZONE
END:VCALENDAR