BEGIN:VCALENDAR
VERSION:2.0
PRODID:-//wp-events-plugin.com//7.2.3.1//EN
TZID:Australia/Sydney
X-WR-TIMEZONE:Australia/Sydney
BEGIN:VEVENT
UID:2456@unswoc.org
DTSTART;TZID=Australia/Sydney:20190906T081500
DTEND;TZID=Australia/Sydney:20190906T120000
DTSTAMP:20190815T134611Z
URL:https://unswoc.org/wordpress/events/beginner-snowboard-lesson-morning-
 only/
SUMMARY:Beginner Snowboard lesson (Morning only)
DESCRIPTION:Hey Guys\,\n\nLooking to do a beginner friendly snowboard lesso
 n just before the snow weekend away! Absolutely no previous experience nee
 ded. (Note: If you can already get down a green run and are looking for ti
 ps\, this isn't the right trip for you!)\n\nThis trip is open to club memb
 ers that are or are not on the club snow trip\, just make sure you have ac
 commodation planned for that night. (If you are on the club snow trip\, ac
 commodation starts on the Friday night.) I recommend getting accommodation
  for the night beforehand because of the early start.\nOrder of Events:\n\
 n 	We will meet at Friday Flats (Thredbo) at 8:15am on Friday morning.\n 	
 The lesson will be conducted for 3 hours and 45 minutes.\n 	At 12pm I have
  to run off\, but hopefully you guys should be able to jump on a chair and
  get to shredding. (If anyone else is going snow-shoeing I can drive you t
 here).\n\nWhat you need:\n\n 	Snowboard with bindings\n 	Snowboard boots\n
  	a snow-sports specific helmet that fits.\n 	Sunnies or snow goggles\n 	G
 loves (important\, snow is cold)\n 	Snow outer-wear. A sturdy rain jacket 
 is good enough for the snow\, and most rental shops have some snow-pants o
 ptions.\n 	Thredbo lift pass (If enough people want to go to Perisher\, th
 is can be arranged.)\n\nRentals\, tickets and such:\nRental equipment: Rig
 ht now Rhythm Snowsports in Cooma has a groupon deal for half price rental
 s. Available here.\n\nTickets: Can be booked on the Thredbo website.\n\nK
 ozi Park Pass: If snowboarding at Thredbo\, you will also need a parks pas
 s for the day per car. This can be paid for on the day ($17/day).\n\nIf yo
 u have any questions\, feel free send me a message on Facebook! I will mak
 e a Facebook group once all spots are filled.\n\nPlease comment your abili
 ty level!
ATTACH;FMTTYPE=image/jpeg:https://unswoc.org/wordpress/wp-content/uploads/
 2019/08/learn-to-snowboard.jpg
CATEGORIES:Snow Resort Activity
END:VEVENT
BEGIN:VTIMEZONE
TZID:Australia/Sydney
X-LIC-LOCATION:Australia/Sydney
BEGIN:STANDARD
DTSTART:20190407T020000
TZOFFSETFROM:+1100
TZOFFSETTO:+1000
TZNAME:AEST
END:STANDARD
END:VTIMEZONE
END:VCALENDAR