BEGIN:VCALENDAR
VERSION:2.0
PRODID:-//wp-events-plugin.com//7.2.3.1//EN
TZID:Australia/Sydney
X-WR-TIMEZONE:Australia/Sydney
BEGIN:VEVENT
UID:2207@unswoc.org
DTSTART:20171217T060000Z
DTEND:20171220T123000Z
DTSTAMP:20171212T233948Z
URL:https://unswoc.org/wordpress/events/beginner-sea-kayaking-jervis-bay/
SUMMARY:Beginner Sea Kayaking - Jervis Bay
DESCRIPTION:Hey there! So Aidan and I are running a beginner friendly sea k
 ayaking trip around Jervis Bay. Let us know if you have your own sea kayak
  so we can open up more spots. We will be paddling during the day and camp
 ing at night so make sure that you are prepared. If you have a car with ro
 of racks\, comment when you sign up and you will be given priority. We wil
 l leave the gear cupboard at 5pm on the in the evening of the 17th and ret
 urning late on the 20th.\n\nWhat you will need:\n\n	swimmers\n	WATER! and 
 things to carry this life source in! (minimum 2L/day)\n	 towel\n	dry bags
  or plastic garbage bags\n	thermals\n	food\n	insect repellent\n	sunscreen 
 and hat\n	toilet paper\n	Life jacket\n	shoes that can get wet\n	tent\n	sle
 eping bag\n	sleeping mat\n	raincoat\n	deck\n	headtorch\n\n*note: UNSWOC ca
 n provide a deck and lifejacket\, please let us know if you are bringing y
 our own!
ATTACH;FMTTYPE=image/jpeg:https://unswoc.org/wordpress/wp-content/uploads/
 2017/12/Jervis.jpg
END:VEVENT
END:VCALENDAR