BEGIN:VCALENDAR
VERSION:2.0
PRODID:-//wp-events-plugin.com//7.2.3.1//EN
TZID:Australia/Sydney
X-WR-TIMEZONE:Australia/Sydney
BEGIN:VEVENT
UID:2677@unswoc.org
DTSTART;TZID=Australia/Sydney:20200801T000000
DTEND;TZID=Australia/Sydney:20200802T233000
DTSTAMP:20200728T102338Z
URL:https://unswoc.org/wordpress/events/beginner-overnight-hike-6-foot-tra
 ck/
SUMMARY:Beginner Overnight Hike - 6 Foot Track
DESCRIPTION:With the weather looking good for this weekend it's time to get
  out for a bushwalk!\n\nThe plan to hike a portion of the six foot track. 
 We'll head up to Katoomba early Saturday morning and hike to Cox River Cam
 psite\, camp overnight before we head back in the morning. If you're feeli
 ng up to it we can go a little further?\n\n&nbsp\;\n\n\nWhat to bring:\n\n
  	Water – You'll need water for the first day at least 3-4L\, for the s
 econd day we can boil or purify water from the rainwater tank.\n 	Sunscree
 n –  Even if overcast you can easily get sunburned.\n 	Hat – Should
  be wide brimmed or a bucket hat to protect your ears and neck.\n 	Food 
 – You will need to prepare food for  breakfast\, two lunches and dinner
  (bring a micro stove if you want hot food\, think quick and easy meals li
 ke oats\, cereal\, muesli\, sandwiches\, couscous packets). Be aware of ga
 rbage as well. Avoid canned food as its heavy and bulky. Bring some lightw
 eight snacks for the hike like trail mix\, chocolate\, muesli bars.\n 	Clo
 thes – Make sure you've got comfortable shoes like joggers or hiking sh
 oes. They'll get dirty or wet. Bring light clothes because you’ll get ho
 t while you hike (e.g. long lightweight pants\, breathable shirt)\, BUT yo
 u MUST BRING warm clothes and a rain jacket\, temperatures get just below 
 0 degrees at night.\n 	Equipment – (most stuff can be borrowed from UNS
 WOC or you can share) You will need tent\, sleeping mat\, sleeping bag\, b
 ackpack for hiking (20-40L)\, micro stove\, small pots\, water bottles. Op
 tional: hiking poles\, gaiters\, compass\, GPS.\n 	Opal Card – Unless so
 meone's driving you'll need one to get up to the mountains.\n\n&nbsp\;\n\n
 Message me Cameron Harkins on fb if you have questions. Please include whe
 ther you are able to drive and if you have a car available in your booking
 .
CATEGORIES:Hectic Hiking
END:VEVENT
BEGIN:VTIMEZONE
TZID:Australia/Sydney
X-LIC-LOCATION:Australia/Sydney
BEGIN:STANDARD
DTSTART:20200405T020000
TZOFFSETFROM:+1100
TZOFFSETTO:+1000
TZNAME:AEST
END:STANDARD
END:VTIMEZONE
END:VCALENDAR