BEGIN:VCALENDAR
VERSION:2.0
PRODID:-//wp-events-plugin.com//7.2.3.1//EN
TZID:Australia/Sydney
X-WR-TIMEZONE:Australia/Sydney
BEGIN:VEVENT
UID:2033@unswoc.org
DTSTART:20160702T200000Z
DTEND:20160703T090000Z
DTSTAMP:20160629T132315Z
URL:https://unswoc.org/wordpress/events/beginner-outdoor-climbing-trip-med
 low-bath/
SUMMARY:Beginner Outdoor Climbing Trip - Medlow Bath
DESCRIPTION:~~TRIP FULL~~\n\n&nbsp\;\n\nHey all\,\n\n&nbsp\;\n\nVicky and I
  will be running a beginner trip next Sunday (3rd July) at Medlow bath in 
 the Blue Mountains. Beautiful scenery and some great beginner climbing rou
 tes! Very close to the train station with about a 20 minute walk into the 
 area.\n\nhttp://www.thecrag.com/climbing/australia/blue-mountains/medlow-b
 ath/route/15340135\n\n&nbsp\;\n\nAt the moment the trip will be limited to
  4 beginner climbers\, but more spots will open up if some more leaders wi
 ll come along. Preference will be given to club members who haven't climbe
 d outdoors before. No minimum climbing grade necessary\, but 14 indoors wo
 uld be beneficial. All climbing related gear can be hired FREE from the ge
 ar cupboard on wednesday evening!\n\n&nbsp\;\n\nWhat you need to bring:\n\
 n-Food (lunch for the day and snacks)\n\n-Water (About 1.5L)\n\n-Warm clot
 hes (It's going to be cold! Bring thermals\, warm jackets etc)\n\n-Climbin
 g Gear (*can be hired FREE from gear cupboard)\n\n	* 1 Locking carabiner\n
 	* 1 belay plate\n	* Harness\n	* Climbing shoes\n	* Helmet\n	Chalk - optio
 nal\n\n-Petrol money/public transport money\n\n&nbsp\;\n\nPlease sign up b
 elow and message me or Vicky if you have any questions! :)
CATEGORIES:Outdoor Climbing
END:VEVENT
END:VCALENDAR