BEGIN:VCALENDAR
VERSION:2.0
PRODID:-//wp-events-plugin.com//7.2.3.1//EN
TZID:Australia/Sydney
X-WR-TIMEZONE:Australia/Sydney
BEGIN:VEVENT
UID:2584@unswoc.org
DTSTART;TZID=Australia/Sydney:20191124T090000
DTEND;TZID=Australia/Sydney:20191124T160000
DTSTAMP:20191119T021239Z
URL:https://unswoc.org/wordpress/events/beginner-mountain-biking-manly-dam
 /
SUMMARY:Beginner Mountain Biking - Manly Dam
DESCRIPTION:Come along for a fun day of beginner/easy intermediate mountain
  biking this Sunday at Manly Dam with Hamish\, David and myself (Bennett).
 \n\n\n\nWe'll meet at 9am at the the main road into Manly Dam and start ou
 r loop from there - King Street carpark outside the Hydro research facilit
 y. With plenty of trails along the way we'll pick and choose what we ride 
 depending on our group's ability. Manly Dam is the perfect place to ride i
 f you're new to the sport and want to give it a try. Should be finished ea
 rly/mid afternoon depending how much we ride.\n\nGetting to Manly Dam is p
 retty easy by public transport if needed. A ferry to Manly wharf and then 
 a 20 minute ride along cycle paths will get you there.\n\n&nbsp\;\n\nWhat 
 you'll need:\n\n 	Mountain Bike - the club does not own any so you'll need
  your own (or borrow a friends). Please check everything works before comi
 ng.\n 	Helmet - Bring other safety gear if you have/want it\, but a helmet
  is mandatory.\n 	Water - There are a few places along the way to fill up 
 but bring some for along the way\n 	Repairs - basic repairs\, e.g. tube\, 
 multi-tool\n 	Snacks\n\nIf you have any questions feel free to message any
  of us.\n\nLeave a comment with any past mountain bike experience. See you
  all there ready for a fun day of sick trails.
ATTACH;FMTTYPE=image/jpeg:https://unswoc.org/wordpress/wp-content/uploads/
 2019/11/images.jpeg
CATEGORIES:Mountain Biking
END:VEVENT
BEGIN:VTIMEZONE
TZID:Australia/Sydney
X-LIC-LOCATION:Australia/Sydney
BEGIN:DAYLIGHT
DTSTART:20191006T030000
TZOFFSETFROM:+1000
TZOFFSETTO:+1100
TZNAME:AEDT
END:DAYLIGHT
END:VTIMEZONE
END:VCALENDAR