BEGIN:VCALENDAR
VERSION:2.0
PRODID:-//wp-events-plugin.com//7.2.3.1//EN
TZID:Australia/Sydney
X-WR-TIMEZONE:Australia/Sydney
BEGIN:VEVENT
UID:3020@unswoc.org
DTSTART;TZID=Australia/Sydney;VALUE=DATE:20220529
DTEND;TZID=Australia/Sydney;VALUE=DATE:20220530
DTSTAMP:20220527T002122Z
URL:https://unswoc.org/wordpress/events/beginner-intermediate-trad-climbin
 g-at-zig-zag-sunday/
SUMMARY:Beginner/Intermediate Trad Climbing at Zig Zag - Sunday
DESCRIPTION:\n\nHello adventurers\,\n\nNic and I (Tad) will be leading a tr
 ad climbing trip to Zig Zag (located in Mt Victoria). This is an old schoo
 l climbing area with a short easy walk in and good routes at all grades.\n
 \nYou must have basic climbing experience to make the most out of this tri
 p. Ideally\, you have climbed outdoors a few times or are confident climbi
 ng at about grade 18 indoors. We'll set up routes for you to second or top
  rope\, so you don't need lead climbing experience necessarily.\n\nThis is
  a predominantly trad climbing area\, with some mixed and sport routes. We
  will teach you all about trad climbing\, the type of gear used for protec
 tion\, how to place gear safely and how to make bomber anchors.\n\nWe will
  meet up at 10:00am on Sunday morning at the parking area at the end of In
 nes Rd in Mt Victoria. If you are travelling by public transport\, we can 
 arrange to pick you up from the train station.\n\nPlease include in the co
 mments: your climbing experience\, whether you are able to drive and what 
 climbing gear you already own. Any gear that you require must be collected
  independently from the gear cupboard at UNSW on the regular gear night.\n
 \n 	Gear: harness\, helmet\, climbing shoes\, ATC + carabiner (if you have
  your own make sure you bring it!!!)\, climbing tape or crack gloves to pr
 otect your hands.\n 	What to bring: sunscreen\, 2L water (minimum!)\, food
  for the day\, sporty clothes\, a warm jacket\, a day backpack to fit all 
 your stuff inside\, camera\, smiles\, etc.\n 	Meeting point: 10:00am at th
 e parking area at the end of Innes Rd\, Mount Victoria.\n\n&nbsp\;\n\nPlea
 se be aware that as the weather is unpredictable\, trip leaders may need t
 o alter trips accordingly. If you have any questions\, feel free to messag
 e me on FB (Tad Karapetian).\n\n&nbsp\;\n\nSee you there\,\n\nTad and Nic
CATEGORIES:Climbing,Outdoor Climbing
END:VEVENT
BEGIN:VTIMEZONE
TZID:Australia/Sydney
X-LIC-LOCATION:Australia/Sydney
BEGIN:STANDARD
DTSTART:20220403T020000
TZOFFSETFROM:+1100
TZOFFSETTO:+1000
TZNAME:AEST
END:STANDARD
END:VTIMEZONE
END:VCALENDAR