BEGIN:VCALENDAR
VERSION:2.0
PRODID:-//wp-events-plugin.com//7.2.3.1//EN
TZID:Australia/Sydney
X-WR-TIMEZONE:Australia/Sydney
BEGIN:VEVENT
UID:3601@unswoc.org
DTSTART;TZID=Australia/Sydney:20250706T100000
DTEND;TZID=Australia/Sydney:20250706T163000
DTSTAMP:20250626T110404Z
URL:https://unswoc.org/wordpress/events/beginner-intermediate-sport-climbi
 ng-upper-shipley/
SUMMARY:Beginner/Intermediate Sport Climbing - Upper Shipley
DESCRIPTION:Hey everyone!\n\nOscar and I will be running a trip to Upper Sh
 ipley mainly around the Grey Slab area which is open to complete beginners
 . We will be setting up top-ropes and the grades range mostly 17 with 2 13
 s as well. There is also a lot of hard stuff nearby. Plenty of easy stuff 
 as an introduction to outdoor climbing\, but if you're keen to spend the d
 ay leading the harder stuff that's a-ok. Feel free to have a look on thecr
 ag and let us know what you're keen to try so we can set that up for you. 
 It should be a chill day\, and a chilly day so remember to bring some warm
 er clothes.\n\nWe will be aiming to meet at the crag at 10am and be drivin
 g back by 4:30pm. It is a bit of a drive\, depending what part of Sydney y
 ou're leaving from. Like always we will be organising car pooling so don't
  sweat it if you don't have access to a car. All climbing gear can be hire
 d from the gear cupboard from 4-5pm on Thursdays\, you can make a booking 
 here. If you can't get to the gear cupboard\, let myself or Oscar know and
  we can pick it up for you. If you have any questions please shoot me a me
 ssage on Facebook. To see if you have read the trip description please let
  us know who your least favourite wiggle is and why in the comment.\nWhat 
 To Bring:\n\n 	Personal gear (Harness\, helmet and climbing shoes)\n 	Bela
 y Device (ATC and Locking Carabiner or similar)\n 	Enclosed shoes suitable
  for a scramble\n 	Warm clothes &amp\; wind breaker(it will be pretty cold
 )\n 	A backpack for all your stuff\n 	Lunch &amp\; snacks (we will be spen
 ding the day at the crag and you will get hungry)\n 	2L of water\n\nIf you
  want to bring other gear you already own\, feel free to. We will be grabb
 ing plenty of ropes\, quickdraws\, anchors etc from the gear cupboard.\n\n
 Please let us know in the comment what your climbing experience is\, what 
 you want out of the day (e.g whether you want to lead or learn how to clea
 n etc) and anything else you feel we might need to know.\n\n&nbsp\;
CATEGORIES:Outdoor Climbing
LOCATION:https://maps.app.goo.gl/2Pu2TrwmdVQcPtvb6
END:VEVENT
BEGIN:VTIMEZONE
TZID:Australia/Sydney
X-LIC-LOCATION:Australia/Sydney
BEGIN:STANDARD
DTSTART:20250406T020000
TZOFFSETFROM:+1100
TZOFFSETTO:+1000
TZNAME:AEST
END:STANDARD
END:VTIMEZONE
END:VCALENDAR