BEGIN:VCALENDAR
VERSION:2.0
PRODID:-//wp-events-plugin.com//7.2.3.1//EN
TZID:Australia/Sydney
X-WR-TIMEZONE:Australia/Sydney
BEGIN:VEVENT
UID:3594@unswoc.org
DTSTART;TZID=Australia/Sydney:20250622T103000
DTEND;TZID=Australia/Sydney:20250622T160000
DTSTAMP:20250617T104839Z
URL:https://unswoc.org/wordpress/events/beginner-intermediate-sport-climbi
 ng-sunbath/
SUMMARY:Beginner/Intermediate Sport Climbing - Sunbath
DESCRIPTION:\n\nHey there Crushers\,\n\nWe (Micah and Marley) will be runni
 ng a super-duper-chill-as beginner/intermediate sport climbing trip on Sun
 day (the 22nd) to the Sunbath in Medlow Bath in anticipation of the freeze
 r-like conditions the blue mountains winter weekends provide.\n\nThe Sunba
 th is a superchill sport crag with lots of easy and hard climbs\, all in f
 ull sun. We will likely set up a few topropes on any free/interesting clim
 bs (if intermediate)\, and maybe get those who are keen to lead the routes
  too.  If you want to have a geez at the crag before signing up\, have a 
 look here (you might find something you're stoked to try).\n\nAttendees wi
 ll need the following:\n\nSkills: No outdoor experience required\, but you
  should be able to top rope (have done indoor toprope before)\, lead clim
 bing experience is great!\n\nGear: You will need personal climbing gear -\
 n\nBare minimum: A harness\, climbing shoes\, and a helmet (a must). If yo
 u do not have these\, please organise yourself\, such as renting one from 
 the gear cupboard\n\nPlease bring if you have: Personal anchor device (PAS
 )\, a belay device (ATC or Gri Gri)\, Cords or Sling\, Carabiners\, Quickd
 raws\n\nWe will grab ropes\, quickdraws\, quads etc\, from the gear cupboa
 rd\n\nClothing: Make sure you check the weekend weather before coming up\,
  but it will likely be COLD\, so you should definitely bring warm clothes 
 (i.e. long-sleeved shirts\, wind breakers\, beanie\, gloves\, etc.) If it
 's raining\, we probably won't end up going here (but still please bring r
 aincoats no matter where we go).\n\nTo answer the following question in th
 e trip request comment: What is your favourite place in Australia you've b
 een to?\n\nFood: Bring whatever you want for lunch and afternoon tea\, as 
 we will be spending the day at the crag (our advice is to bring something 
 simple and easy\, and also bring sugary stuff for when climbing).\n\nWater
 : Bring a minimum of 2L.\n\nIf this trip floats your boat\, then feel free
  to request to join. Feel free to send us a pm on facebook (Micah Wang or 
 Marley Shaw-McHenry) with any questions or just to say hello and let us kn
 ow you're keen (and will probs make us more inclined to have you come).
CATEGORIES:Outdoor Climbing
LOCATION:https://maps.app.goo.gl/58VSfAoPvimGi5qV6
END:VEVENT
BEGIN:VTIMEZONE
TZID:Australia/Sydney
X-LIC-LOCATION:Australia/Sydney
BEGIN:STANDARD
DTSTART:20250406T020000
TZOFFSETFROM:+1100
TZOFFSETTO:+1000
TZNAME:AEST
END:STANDARD
END:VTIMEZONE
END:VCALENDAR