BEGIN:VCALENDAR
VERSION:2.0
PRODID:-//wp-events-plugin.com//7.2.3.1//EN
TZID:Australia/Sydney
X-WR-TIMEZONE:Australia/Sydney
BEGIN:VEVENT
UID:3186@unswoc.org
DTSTART;TZID=Australia/Sydney;VALUE=DATE:20230219
DTEND;TZID=Australia/Sydney;VALUE=DATE:20230220
DTSTAMP:20230216T045708Z
URL:https://unswoc.org/wordpress/events/beginner-intermediate-sport-climbi
 ng-blue-mountains-likely-bardens-19th-feb/
SUMMARY:[FULL] Beginner/Intermediate Sport Climbing Blue Mountains.... (lik
 ely Bardens)... 19th Feb
DESCRIPTION:***EVENT NOW FULL***\n\nThanks to everyone who signed up\, but 
 we are now full! Keep signing up to future trips\, we'd have loved to be a
 ble to take you all!\n\n&nbsp\;\n\nKatie\, Georgie\, and I (Sammy) will le
 ad a beginners/intermediate climbing trip on Sunday 19th to Bardens (Blue 
 Mountains). --- Note. we may switch crags depending on arrival/sun/heat\n\
 nLet us know in the comments if you are interested in learning to lead or 
 clean routes and we can show you where to get started 🙂\n\nBut\, we wil
 l be setting up top ropes too so no experience is required\, only enthusia
 sm to touch rocks!\n\nYou will need to bring:\n\nClimbing gear:\n\n 	Harne
 ss*\n 	Climbing Shoes*\n 	Helmet*\n 	Belay device and locking carabiner*\n
  	Safety sling and locking carabiner * (if you want to learn to clean)\n 	
 Chalk Bag (optional but recommended if you have sweaty tips)\n\nOther:\n\n
  	At least 2L of water\n 	Food and snacks for the day\n 	Sunscreen\n 	Pers
 onal medicines (epipen\, asthma puffer\, etc.\,)\n 	Comfortable clothes to
  climb in\n 	Enclosed comfortable shoes for the approach\n 	A head torch (
 just incase we are too psyched to leave before dark...)\n\n(*) – Can be 
 borrowed from the gear shed Thursday 5:30-6:30pm\, hire is free for club t
 rips but remember to bring cash for a deposit!\n\n\n&nbsp\;\n\nIf you’re
  interested leave a comment with any climbing experience you have and if 
 you’d like to learn anything in particular on the trip (leading\, cleani
 ng\, etc.\,). Also let us know your favorite species of tree please...  I
 f you’ve got any questions\, feel free to message me on Facebook (Sammy 
 Millard). See you there!
CATEGORIES:Outdoor Climbing
END:VEVENT
BEGIN:VTIMEZONE
TZID:Australia/Sydney
X-LIC-LOCATION:Australia/Sydney
BEGIN:DAYLIGHT
DTSTART:20221002T030000
TZOFFSETFROM:+1000
TZOFFSETTO:+1100
TZNAME:AEDT
END:DAYLIGHT
END:VTIMEZONE
END:VCALENDAR