BEGIN:VCALENDAR
VERSION:2.0
PRODID:-//wp-events-plugin.com//7.2.3.1//EN
TZID:Australia/Sydney
X-WR-TIMEZONE:Australia/Sydney
BEGIN:VEVENT
UID:3706@unswoc.org
DTSTART;TZID=Australia/Sydney;VALUE=DATE:20251125
DTEND;TZID=Australia/Sydney;VALUE=DATE:20251126
DTSTAMP:20251111T122832Z
URL:https://unswoc.org/wordpress/events/beginner-intermediate-sport-climbi
 ng-bell-supercrag/
SUMMARY:Beginner/Intermediate Sport Climbing @ Bell Supercrag
DESCRIPTION:Hey academic weapons!\n\nOscar and I (Raff) are keen to take so
 me people out to Bell Supercrag instead of preparing for exams. There is a
  huge range of grades so there's something for everyone. No experience doi
 ng anything is required\, just a basic level of physical fitness. If you h
 ave any questions\, just message Oscar or myself. We'll set up top-ropes\,
  but I'm very happy for people to lead. The specific wall we go to will de
 pend on the experience of the group.\n\nThere is a long (by climbing stand
 ards) hike to get in and out of the crag\, experience scrambling and physi
 cal fitness is a must have. It takes ~1 hour to get in and out of the crag
  with a fair bit of elevation.\nYOU MUST CLIMB!!!\nIf you come on this tri
 p you are committing to trying every climb that is set up until you run ou
 t of energy!!! This is not a trip just for socialising\, obviously there w
 ill be plenty of socialising\, but more than that people will climb. This 
 is meant to be a distraction from the fact I'm doomed for my exams\, any t
 ime off the wall is time being inadequately distracted! To make sure you h
 ave read the description\, please let me know your expected climbs per hou
 r in the comment.\n\nIdeally I will also be able to climb stuff aside from
  setting up climbs so there will be less of an emphasis on learning and mo
 re of an emphasis on losing skin and popping pulleys.\nWhat To Bring:\n\n 
 	Harness *\n 	Helmet *\n 	Climbing Shoes *\n 	ATC *\n 	Locking Carabiner *
 \n 	Enclosed shoes for the approach\n 	A backpack for your stuff and whate
 ver gear we make you carry\n 	Lunch and snacks\n 	Minimum 2L water\n 	Any 
 medications you need\n 	Any extra gear you want\n\nItems with a * can be b
 orrowed from the gear cupboard on Thursdays\, if you cannot make the cupbo
 ard please let us know and we will borrow it on your behalf.\n\nWe will or
 ganise carpooling and go over more details in a messenger group chat\, so 
 if you get accepted on the trip please check your message requests. If you
 r facebook profile is not already on your account please put it in your co
 mment.\n\nIn your comment please let us know what climbing experience you 
 have\, what hiking/scrambling experience you have and anything else you fe
 el is important.
CATEGORIES:Outdoor Climbing
LOCATION:https://maps.app.goo.gl/vAApXrZPh8oKfcxu5
END:VEVENT
BEGIN:VTIMEZONE
TZID:Australia/Sydney
X-LIC-LOCATION:Australia/Sydney
BEGIN:DAYLIGHT
DTSTART:20251005T030000
TZOFFSETFROM:+1000
TZOFFSETTO:+1100
TZNAME:AEDT
END:DAYLIGHT
END:VTIMEZONE
END:VCALENDAR