BEGIN:VCALENDAR
VERSION:2.0
PRODID:-//wp-events-plugin.com//7.2.3.1//EN
TZID:Australia/Sydney
X-WR-TIMEZONE:Australia/Sydney
BEGIN:VEVENT
UID:3634@unswoc.org
DTSTART;TZID=Australia/Sydney:20250820T100000
DTEND;TZID=Australia/Sydney:20250820T160000
DTSTAMP:20250819T113624Z
URL:https://unswoc.org/wordpress/events/beginner-intermediate-sport-climbi
 ng-bardens-lookout/
SUMMARY:[FULL] Beginner/Intermediate Sport Climbing @ Bell Supercrag
DESCRIPTION:Hi everyone!\n\nRaine and I are going to be running a trip to B
 ardens Lookout Bell Supercrag on Wednesday\, we plan to spend our time aro
 und little triggers wall Duck Wall. Please have a look on thecrag and let 
 us know what you want to try. We know that we haven't given you much notic
 e\, so we will be grabbing helmets and harnesses for anyone who missed the
  gear cupboard. It should be heaps of fun with big (for single pitch stand
 ards) dry walls and good climbing.\n\nWe will set up some top ropes\, and 
 also do some leading. Whatever the group wants we will accomodate for. The
  crag has a good variety of grades with the good stuff ranging from 17 to 
 33 16 to 27. You will get the most out of the day if you have some experie
 nce climbing either indoors or outdoors as there isn't a huge amount of fu
 n super duper easy stuff. To check you read the description let us know in
  your comment what you think about rock candy.\nWhat to Bring:\n\n 	Harnes
 s *\n 	Helmet *\n 	Climbing Shoes *\n 	Enclosed Shoes for the approach\n 	
 Warm clothes\n 	A backpack\n 	Lunch and snacks\n 	2L water\n 	Any medicati
 ons you need\n 	Any gear you want to use\n\nItems with a * can be borrowed
  from the gear cupboard. Raine and I will borrow the ropes\, quickdraws\, 
 quads\, belay devices and some slings from the gear cupboard.\n\nIn your c
 omment please let us know your climbing experience\, any skills you might 
 want to learn and anything else that might be important.
CATEGORIES:Outdoor Climbing
LOCATION:https://maps.app.goo.gl/oHG2jLVtRf1k3TBo9
END:VEVENT
BEGIN:VTIMEZONE
TZID:Australia/Sydney
X-LIC-LOCATION:Australia/Sydney
BEGIN:STANDARD
DTSTART:20250406T020000
TZOFFSETFROM:+1100
TZOFFSETTO:+1000
TZNAME:AEST
END:STANDARD
END:VTIMEZONE
END:VCALENDAR