BEGIN:VCALENDAR
VERSION:2.0
PRODID:-//wp-events-plugin.com//7.2.3.1//EN
TZID:Australia/Sydney
X-WR-TIMEZONE:Australia/Sydney
BEGIN:VEVENT
UID:3246@unswoc.org
DTSTART;TZID=Australia/Sydney:20230416T093000
DTEND;TZID=Australia/Sydney:20230416T170000
DTSTAMP:20230412T083328Z
URL:https://unswoc.org/wordpress/events/beginner-intermediate-sport-climbi
 ng-at-mount-york/
SUMMARY:Beginner/Intermediate Sport Climbing at Mount York
DESCRIPTION:Hey all!\n\nThis Sunday\, Mali\, Margot\, Justin and I will be 
 running a nice big beginner/intermediate sport climbing trip to Mount York
 \, hoping to get more people out after the Easter long weekend. We will be
  looking to gather a bunch of keen beans and split off into smaller groups
  heading to different areas\, depending on what the participants are hopin
 g to get out of this day\, whether it be top-roping\, practicing leading s
 ome easier climbs or learning more skills such as anchor building. eg. We 
 can have some people who are keen to learn to lead and clean routes at the
  Soft Parade and those more keen to lead/top-rope only at Mezzaluna. This 
 trip will be beginner friendly as we can just set up top-ropes for you to 
 enjoy\, or even if you've got the skills and just wanna come hang\, we'd l
 ove that too :D\n\nMore info on the crag here!\n\n[caption id="attachment_
 14812" align="alignnone" width="288"] The Classic Mezzaluna shot[/caption]
 \n\n&nbsp\;\n\nYou will need to bring:\n\nClimbing gear:\n\n 	Harness*\n 	
 Climbing Shoes*\n 	Helmet*\n 	Belay device and locking carabiner*\n 	Safet
 y sling and locking carabiner * (if you want to learn to clean)\n 	Chalk B
 ag (optional but recommended if you have sweaty tips)\n\n&nbsp\;\n\nOther
 :\n\n 	At least 2L of water\n 	Food and snacks for the day\n 	Sunscreen\n 
 	Personal medicines (epipen\, asthma puffer\, etc.\,)\n 	Comfortable cloth
 es to climb in\n 	Enclosed comfortable shoes for the approach\n 	A head to
 rch (just incase we are too psyched to leave before dark…)\n\n(*) – C
 an be borrowed from the gear shed Thursday 5:30-6:30pm\, hire is free for 
 club trips but remember to bring cash for a deposit!\n\n&nbsp\;\n\nIf you
 ’re interested leave a comment with any climbing experience you have and
  what you'd like to get out of the day (leading\, learning to clean\, etc.
 \,). Also let us know your favourite place in this world! If you’ve got 
 any questions\, feel free to message any of us on Facebook.\n\nGet keen\, 
 see you there!
CATEGORIES:Climbing,Outdoor Climbing
END:VEVENT
BEGIN:VTIMEZONE
TZID:Australia/Sydney
X-LIC-LOCATION:Australia/Sydney
BEGIN:STANDARD
DTSTART:20230402T020000
TZOFFSETFROM:+1100
TZOFFSETTO:+1000
TZNAME:AEST
END:STANDARD
END:VTIMEZONE
END:VCALENDAR