BEGIN:VCALENDAR
VERSION:2.0
PRODID:-//wp-events-plugin.com//7.2.3.1//EN
TZID:Australia/Sydney
X-WR-TIMEZONE:Australia/Sydney
BEGIN:VEVENT
UID:2741@unswoc.org
DTSTART;TZID=Australia/Sydney;VALUE=DATE:20200927
DTEND;TZID=Australia/Sydney;VALUE=DATE:20200928
DTSTAMP:20200922T102307Z
URL:https://unswoc.org/wordpress/events/beginner-intermediate-outdoor-clim
 bing-trip-sunday-27th-september/
SUMMARY:Beginner/Intermediate Outdoor Climbing Trip - SUNDAY 27th September
DESCRIPTION:Climbing trip this Sunday to the Blue Mountains!! The specific 
 location is TBA because we will pick the crag depending on who signs up\, 
 car availability etc.\n\n 	The plan: leaving Sydney early on Sunday and ba
 ck in the evening. Spend a great day climbing up some cool rocks. Please c
 omment how you plan to get to the crag. Due to COVID19 we do not recommend
  car pooling/catching public transport.\n 	The gear: you'll need a HELMET\
 , HARNESS\, and climbing SHOES. They can be borrowed from the gear cupboar
 d at UNSW (for free\, but bring a small $ deposit)\, please check the Face
 book page to find out when the gear cupboard opens. If you have your own g
 ear\, bring it of course!\n 	The rest: bring warm clothes\, enclosed comfo
 rtable shoes for the hike in\, water (2L) and food for the day\, any perso
 nal meds\, sunscreen\, a phone full of battery\, and a headtorch (we somet
 imes finish in the dark so the walkout may be in the dark).\n\nDISCLAIMER:
  If you are sick\, have been in contact with a COVID case\, or have been t
 o Vitoria or overseas in the past 2 weeks\, you CANNOT attend this trip\, 
 unfortunately. Hand sanitizer will be provided\, let's keep safe &lt\;3 Fu
 rthermore\, please avoid any interactions with other people outside the Sy
 dney area where possible (e.g. food shopping\, refill fuel in Sydney).\n\n
 Any questions\, message me (Jenny) on Facebook. See ya there!\n\n
ATTACH;FMTTYPE=image/jpeg:https://unswoc.org/wordpress/wp-content/uploads/
 2019/10/pic1.jpeg
CATEGORIES:Outdoor Climbing
END:VEVENT
BEGIN:VTIMEZONE
TZID:Australia/Sydney
X-LIC-LOCATION:Australia/Sydney
BEGIN:STANDARD
DTSTART:20200405T020000
TZOFFSETFROM:+1100
TZOFFSETTO:+1000
TZNAME:AEST
END:STANDARD
END:VTIMEZONE
END:VCALENDAR