BEGIN:VCALENDAR
VERSION:2.0
PRODID:-//wp-events-plugin.com//7.2.3.1//EN
TZID:Australia/Sydney
X-WR-TIMEZONE:Australia/Sydney
BEGIN:VEVENT
UID:2735@unswoc.org
DTSTART;TZID=Australia/Sydney;VALUE=DATE:20200912
DTEND;TZID=Australia/Sydney;VALUE=DATE:20200913
DTSTAMP:20200907T053544Z
URL:https://unswoc.org/wordpress/events/beginner-intermediate-outdoor-clim
 bing-trip-saturday-12th-september/
SUMMARY:Beginner/Intermediate Outdoor Climbing Trip - SATURDAY 12th Septemb
 er
DESCRIPTION:Climbing trip this Saturday to the Blue Mountains!! The specifi
 c location is TBA because we will pick the crag depending on who signs up\
 , car availability etc.\n\n 	The plan: leaving Sydney early on Saturday an
 d back in the evening. Spend a great day climbing up some cool rocks. Plea
 se comment how you plan to get to the crag. Due to COVID19 we do not recom
 mend car pooling/catching public transport.\n 	The gear: you'll need a HEL
 MET\, HARNESS\, and climbing SHOES. They can be borrowed from the gear cup
 board at UNSW (for free\, but bring a small $ deposit)\, please check the 
 Facebook page to find out when the gear cupboard opens. If you have your o
 wn gear\, bring it of course!\n 	The rest: bring warm clothes\, enclosed c
 omfortable shoes for the hike in\, water (2L) and food for the day\, any p
 ersonal meds\, sunscreen\, a phone full of battery\, and a headtorch (we s
 ometimes finish in the dark so the walkout may be in the dark).\n\nDISCLAI
 MER: If you are sick\, have been in contact with a COVID case\, or have be
 en to Vitoria or overseas in the past 2 weeks\, you CANNOT attend this tri
 p\, unfortunately. Hand sanitizer will be provided\, let's keep safe &lt\;
 3 Furthermore\, please avoid any interactions with other people outside th
 e Sydney area where possible (e.g. food shopping\, refill fuel in Sydney).
 \n\nAny questions\, message me (Jenny) on Facebook. See ya there!\n\n
ATTACH;FMTTYPE=image/jpeg:https://unswoc.org/wordpress/wp-content/uploads/
 2019/10/pic1.jpeg
CATEGORIES:Outdoor Climbing
END:VEVENT
BEGIN:VTIMEZONE
TZID:Australia/Sydney
X-LIC-LOCATION:Australia/Sydney
BEGIN:STANDARD
DTSTART:20200405T020000
TZOFFSETFROM:+1100
TZOFFSETTO:+1000
TZNAME:AEST
END:STANDARD
END:VTIMEZONE
END:VCALENDAR