BEGIN:VCALENDAR
VERSION:2.0
PRODID:-//wp-events-plugin.com//7.2.3.1//EN
TZID:Australia/Sydney
X-WR-TIMEZONE:Australia/Sydney
BEGIN:VEVENT
UID:2672@unswoc.org
DTSTART;TZID=Australia/Sydney;VALUE=DATE:20200711
DTEND;TZID=Australia/Sydney;VALUE=DATE:20200712
DTSTAMP:20200709T003708Z
URL:https://unswoc.org/wordpress/events/beginner-intermediate-outdoor-clim
 bing-trip-saturday-11th/
SUMMARY:Beginner/Intermediate Outdoor Climbing Trip - SATURDAY 11th
DESCRIPTION:Hey there! Weather permitting\, we will be running a climbing t
 rip this Saturday to the Blue Mountains. The specific location is TBA beca
 use we will pick the crag with the best forecast to avoid the rain and the
  chilly winter winds! Expect grades from easy to difficult\, so everyone i
 s welcomed!\n\n 	The plan: leaving Sydney early on Saturday and back in th
 e evening. Spend a great day climbing up some cool rocks. Please comment i
 f you have a car\, and where do you live / where could you pick up people 
 from / where you need a lift from :)\n 	The gear: you'll need a HELMET\, H
 ARNESS\, and climbing SHOES. They can be borrowed from the gear cupboard a
 t UNSW (for free\, but bring a small $ deposit)\, please check the Faceboo
 k page to find out when the gear cupboard opens. If you have your own gear
 \, bring it of course!\n 	The rest: bring warm clothes\, enclosed comforta
 ble shoes for the hike in\, water (2L) and food for the day\, any personal
  meds\, a phone full of battery\, and a headtorch (we sometimes finish in 
 the dark so the walkout may be in the dark).\n\nDISCLAIMER: If you are sic
 k\, have been in contact with a COVID case\, or have been to Vitoria or ov
 erseas in the past 2 weeks\, you CANNOT attend this trip\, unfortunately. 
 Hand sanitizer will be provided\, let's keep safe &lt\;3\n\nAny questions\
 , message me on Facebook. See ya there!\n\nMaria &amp\; Sammy
ATTACH;FMTTYPE=image/jpeg:https://unswoc.org/wordpress/wp-content/uploads/
 2019/10/pic1.jpeg
CATEGORIES:Outdoor Climbing
END:VEVENT
BEGIN:VTIMEZONE
TZID:Australia/Sydney
X-LIC-LOCATION:Australia/Sydney
BEGIN:STANDARD
DTSTART:20200405T020000
TZOFFSETFROM:+1100
TZOFFSETTO:+1000
TZNAME:AEST
END:STANDARD
END:VTIMEZONE
END:VCALENDAR